BEGIN:VCALENDAR
VERSION:2.0
PRODID:-//ASCENDtials - ECPv6.15.20//NONSGML v1.0//EN
CALSCALE:GREGORIAN
METHOD:PUBLISH
X-WR-CALNAME:ASCENDtials
X-ORIGINAL-URL:https://ascendtials.org
X-WR-CALDESC:Events for ASCENDtials
REFRESH-INTERVAL;VALUE=DURATION:PT1H
X-Robots-Tag:noindex
X-PUBLISHED-TTL:PT1H
BEGIN:VTIMEZONE
TZID:America/Los_Angeles
BEGIN:DAYLIGHT
TZOFFSETFROM:-0800
TZOFFSETTO:-0700
TZNAME:PDT
DTSTART:20230312T100000
END:DAYLIGHT
BEGIN:STANDARD
TZOFFSETFROM:-0700
TZOFFSETTO:-0800
TZNAME:PST
DTSTART:20231105T090000
END:STANDARD
BEGIN:DAYLIGHT
TZOFFSETFROM:-0800
TZOFFSETTO:-0700
TZNAME:PDT
DTSTART:20240310T100000
END:DAYLIGHT
BEGIN:STANDARD
TZOFFSETFROM:-0700
TZOFFSETTO:-0800
TZNAME:PST
DTSTART:20241103T090000
END:STANDARD
BEGIN:DAYLIGHT
TZOFFSETFROM:-0800
TZOFFSETTO:-0700
TZNAME:PDT
DTSTART:20250309T100000
END:DAYLIGHT
BEGIN:STANDARD
TZOFFSETFROM:-0700
TZOFFSETTO:-0800
TZNAME:PST
DTSTART:20251102T090000
END:STANDARD
BEGIN:DAYLIGHT
TZOFFSETFROM:-0800
TZOFFSETTO:-0700
TZNAME:PDT
DTSTART:20260308T100000
END:DAYLIGHT
BEGIN:STANDARD
TZOFFSETFROM:-0700
TZOFFSETTO:-0800
TZNAME:PST
DTSTART:20261101T090000
END:STANDARD
END:VTIMEZONE
BEGIN:VEVENT
DTSTART;TZID=America/Los_Angeles:20250420T161500
DTEND;TZID=America/Los_Angeles:20250420T173000
DTSTAMP:20260423T161507
CREATED:20250410T052907Z
LAST-MODIFIED:20250410T052916Z
UID:26666-1745165700-1745170200@ascendtials.org
SUMMARY:Climate Cares Highway Cleanup
DESCRIPTION:I-5 Poinsettia Ln. and La Costa Highway
URL:https://ascendtials.org/events/climate-cares-highway-cleanup-4/
ATTACH;FMTTYPE=image/png:https://ascendtials.org/wp-content/uploads/2025/04/9.png
END:VEVENT
BEGIN:VEVENT
DTSTART;TZID=America/Los_Angeles:20250419T091500
DTEND;TZID=America/Los_Angeles:20250419T110000
DTSTAMP:20260423T161507
CREATED:20250410T052146Z
LAST-MODIFIED:20250410T052505Z
UID:26661-1745054100-1745060400@ascendtials.org
SUMMARY:Climate Cares Highway Cleanup
DESCRIPTION:Coronado Route 75N & S 1701 Strand Way Coronado\, CA 92118
URL:https://ascendtials.org/events/26661/
ATTACH;FMTTYPE=image/png:https://ascendtials.org/wp-content/uploads/2025/04/8.png
END:VEVENT
BEGIN:VEVENT
DTSTART;TZID=America/Los_Angeles:20250413T161500
DTEND;TZID=America/Los_Angeles:20250413T173000
DTSTAMP:20260423T161507
CREATED:20250410T051134Z
LAST-MODIFIED:20250410T051423Z
UID:26656-1744560900-1744565400@ascendtials.org
SUMMARY:Climate Cares Highway Cleanup
DESCRIPTION:Highway 15N Market St\, Stockton San Diego\, CA 92102
URL:https://ascendtials.org/events/climate-cares-highway-cleanup-2/
ATTACH;FMTTYPE=image/png:https://ascendtials.org/wp-content/uploads/2025/04/7-2.png
END:VEVENT
BEGIN:VEVENT
DTSTART;TZID=America/Los_Angeles:20250412T101500
DTEND;TZID=America/Los_Angeles:20250412T113000
DTSTAMP:20260423T161507
CREATED:20250410T050745Z
LAST-MODIFIED:20250410T050759Z
UID:26653-1744452900-1744457400@ascendtials.org
SUMMARY:Climate Cares Highway Cleanup
DESCRIPTION:
URL:https://ascendtials.org/events/climate-cares-highway-cleanup/
ATTACH;FMTTYPE=image/png:https://ascendtials.org/wp-content/uploads/2025/04/6-2.png
END:VEVENT
BEGIN:VEVENT
DTSTART;TZID=America/Los_Angeles:20250405T091500
DTEND;TZID=America/Los_Angeles:20250405T113000
DTSTAMP:20260423T161507
CREATED:20250410T055231Z
LAST-MODIFIED:20250410T055242Z
UID:26681-1743844500-1743852600@ascendtials.org
SUMMARY:Climate Cares Highway Cleanup
DESCRIPTION:Black’s Beach San Diego\, CA 92037
URL:https://ascendtials.org/events/climate-cares-highway-cleanup-9/
ATTACH;FMTTYPE=image/png:https://ascendtials.org/wp-content/uploads/2025/04/4-2.png
END:VEVENT
BEGIN:VEVENT
DTSTART;TZID=America/Los_Angeles:20241012T103000
DTEND;TZID=America/Los_Angeles:20241012T113000
DTSTAMP:20260423T161507
CREATED:20241009T081649Z
LAST-MODIFIED:20241010T055754Z
UID:24433-1728729000-1728732600@ascendtials.org
SUMMARY:Fall Cleanup
DESCRIPTION:Come join us for two days of gardening fun on October 5th and 12th! Learn how to prepare your garden for the coming fall!
URL:https://ascendtials.org/events/fall-cleanup/
LOCATION:Sweetwater Community Garden\, 5354 Sweetwater Rd\, Bonita\, California\, 91902\, United States
ATTACH;FMTTYPE=image/jpeg:https://ascendtials.org/wp-content/uploads/2024/10/fall.jpeg
END:VEVENT
BEGIN:VEVENT
DTSTART;TZID=America/Los_Angeles:20240929T110000
DTEND;TZID=America/Los_Angeles:20240929T150000
DTSTAMP:20260423T161507
CREATED:20240911T065730Z
LAST-MODIFIED:20241003T194757Z
UID:23625-1727607600-1727622000@ascendtials.org
SUMMARY:ASCEND to Kemet Fest
DESCRIPTION:Introducing new artists\, vendors\, foods\, performances\, and soulful music to enhance the experience for you and the people of San Diego.
URL:https://ascendtials.org/events/ascend-to-kemet-fest/
LOCATION:City Heights  Performance Annex 3795 Fairmount Ave.  San Diego\, CA 92105\, City Heights Performance Annex 3795 Fairmount Ave.\, San Diego\, California\, 92105\, United States
ATTACH;FMTTYPE=image/png:https://ascendtials.org/wp-content/uploads/2024/09/kemet_fest.png
END:VEVENT
BEGIN:VEVENT
DTSTART;TZID=America/Los_Angeles:20240929T103000
DTEND;TZID=America/Los_Angeles:20240929T113000
DTSTAMP:20260423T161507
CREATED:20240911T071159Z
LAST-MODIFIED:20240911T071203Z
UID:23633-1727605800-1727609400@ascendtials.org
SUMMARY:ASCENDtials - Farmers' Market Yoga Session
DESCRIPTION:Come join us for a relaxing yoga session at the ASCENDKemet Collective Certified Farmers Market to elevate your mind\, body\, and spirit!
URL:https://ascendtials.org/events/ascendtials-farmers-market-yoga-session-4/
LOCATION:4325 Wightman Street  San Diego\, CA 92105\, 4325 Wightman Street\, San Diego\, California\, 92105\, United States
ATTACH;FMTTYPE=image/png:https://ascendtials.org/wp-content/uploads/2024/09/Farmers-Market-Yoga-Session-2160-x-1080-px.png
END:VEVENT
BEGIN:VEVENT
DTSTART;TZID=America/Los_Angeles:20240929T100000
DTEND;TZID=America/Los_Angeles:20240929T140000
DTSTAMP:20260423T161507
CREATED:20240904T184555Z
LAST-MODIFIED:20240927T215128Z
UID:23213-1727604000-1727618400@ascendtials.org
SUMMARY:ASCENDKemet Collective Certified Farmers’ Market of City Heights
DESCRIPTION:Ascendkemet COLLECTIVE is excited to present the Certified Farmers’ Market of City Heights! Join us for a vibrant celebration featuring fresh fruits\, veggies\, herbs\, antidotes\, drums\, and vendors from the diaspora. Enjoy live music and wisdom from our beloved elders. This event is a fantastic opportunity to connect with the community\, support local farmers\, and experience the rich cultural heritage of City Heights. \n\n\n\n\n\n\n\n\n\n\n\n\n\n\n\n\n\n\n\nLearn More
URL:https://ascendtials.org/events/ascendkemet-collective-certified-farmers-market-of-city-heights-4/
LOCATION:4325 Wightman Street  San Diego\, CA 92105\, 4325 Wightman Street\, San Diego\, California\, 92105\, United States
CATEGORIES:Healing Sessions
ATTACH;FMTTYPE=image/png:https://ascendtials.org/wp-content/uploads/2023/10/farmers_market.png
END:VEVENT
BEGIN:VEVENT
DTSTART;TZID=America/Los_Angeles:20240928T103000
DTEND;TZID=America/Los_Angeles:20240928T113000
DTSTAMP:20260423T161507
CREATED:20240819T101440Z
LAST-MODIFIED:20240909T071925Z
UID:22190-1727519400-1727523000@ascendtials.org
SUMMARY:Garden Workshop
DESCRIPTION:ASCENDtials is bringing back a popular workshop this year! Our Garden workshop will take place with our Garden Lead\, Kenyatta. Kenyatta has been gardening for as long as she can remember and is excited to help others explore this passion. This workshop will discuss the secrets to a thriving Spring garden! Learn which plants flourish in the Spring\, when to sow your seeds\, and how to effectively manage those garden pests. We’ll also cover essential tips on garden maintenance\, soil care\, and seasonal transitions to ensure the garden remains vibrant throughout the season. This workshop will equip you with all you need for a bountiful Spring harvest! We always offer free seeds\, plants\, and other goodies during our sessions. \n\n\n\nThe workshops are interactive and permit you to work in the soil and grow with us. Each workshop will take place once a month until the end of the year in sunny Bonita\, inside the Sweetwater Summit Regional Park. We hope to see you there!
URL:https://ascendtials.org/events/garden-workshop-5/
LOCATION:Sweetwater Community Garden\, 5354 Sweetwater Rd\, Bonita\, California\, 91902\, United States
ATTACH;FMTTYPE=image/png:https://ascendtials.org/wp-content/uploads/2024/08/garden.png
END:VEVENT
BEGIN:VEVENT
DTSTART;TZID=America/Los_Angeles:20240928T091500
DTEND;TZID=America/Los_Angeles:20240928T113000
DTSTAMP:20260423T161507
CREATED:20240819T194928Z
LAST-MODIFIED:20240904T140002Z
UID:22211-1727514900-1727523000@ascendtials.org
SUMMARY:ASCENDtials Climate Cares Highway Cleanup at Highway 125N at Quarry/Elketon
DESCRIPTION:ASCENDtials has adopted the Highway 125 to clean up a 1.4-mile stretch monthly. Join our cleanups! Build community and let’s clean!
URL:https://ascendtials.org/events/ascendtials-climate-cares-highway-cleanup-at-highway-125n-at-quarry-elketon/
LOCATION:Highway 125 at Quarry and Elketon\, 6377 Quarry Rd\, Spring Valley\, California\, 91977
ATTACH;FMTTYPE=image/png:https://ascendtials.org/wp-content/uploads/2024/08/cleanup.125.png
END:VEVENT
BEGIN:VEVENT
DTSTART;TZID=America/Los_Angeles:20240927T170000
DTEND;TZID=America/Los_Angeles:20240927T190000
DTSTAMP:20260423T161507
CREATED:20221231T181239Z
LAST-MODIFIED:20240904T091736Z
UID:10492-1727456400-1727463600@ascendtials.org
SUMMARY:Climate Highway Cleanup
DESCRIPTION:We have adopted Highway 5 N 2865 National Avenue. We provide all cleanup supplies and Letters of Appreciation! Join us for your chance to show the planet you care!
URL:https://ascendtials.org/events/adopt-a-highway-cleanup/
LOCATION:Highway 5 N 2865 National Avenue San Diego\, CA\, 92113\, Highway 5 N 2865 National Avenue\, San Diego\, California\, 92113\, United States
CATEGORIES:Adopt-a-Highway Cleanups,Cleanups
ATTACH;FMTTYPE=image/png:https://ascendtials.org/wp-content/uploads/2022/12/cleanup.5_2.png
END:VEVENT
BEGIN:VEVENT
DTSTART;TZID=America/Los_Angeles:20240925T170000
DTEND;TZID=America/Los_Angeles:20240925T180000
DTSTAMP:20260423T161507
CREATED:20240904T184049Z
LAST-MODIFIED:20240904T184053Z
UID:23207-1727283600-1727287200@ascendtials.org
SUMMARY:Kemetic Yoga Wednesdays
DESCRIPTION:
URL:https://ascendtials.org/events/kemetic-yoga-wednesdays-4/
LOCATION:Silver Strand Beach\, 5000 CA-75\, Coronado\, California\, 92118\, United States
ATTACH;FMTTYPE=image/png:https://ascendtials.org/wp-content/uploads/2024/08/yoga-1.png
END:VEVENT
BEGIN:VEVENT
DTSTART;TZID=America/Los_Angeles:20240922T161500
DTEND;TZID=America/Los_Angeles:20240922T180000
DTSTAMP:20260423T161507
CREATED:20230914T230147Z
LAST-MODIFIED:20240904T120745Z
UID:13655-1727021700-1727028000@ascendtials.org
SUMMARY:Climate Cares - Highway Cleanup
DESCRIPTION:ASCENDtials has adopted Highway Cleanup @ Highway 94E @ 28th and @47th to clean up monthly. Join our cleanups! Build community and let’s clean! \n\n\n\n\n\n\n\n\n\n\n\n\n\n\n\n\n\n\n\nLearn More
URL:https://ascendtials.org/events/climate-cares-highway-cleanup-3/
LOCATION:Highway 94 E & W\, 1005 47th Street and 32nd and Broadaway\, San Diego\, California\, 92102\, United States
CATEGORIES:Cleanups
ATTACH;FMTTYPE=image/png:https://ascendtials.org/wp-content/uploads/2023/09/cleanup.94.png
END:VEVENT
BEGIN:VEVENT
DTSTART;TZID=America/Los_Angeles:20240922T103000
DTEND;TZID=America/Los_Angeles:20240922T113000
DTSTAMP:20260423T161507
CREATED:20240911T071051Z
LAST-MODIFIED:20240911T071053Z
UID:23634-1727001000-1727004600@ascendtials.org
SUMMARY:ASCENDtials - Farmers' Market Yoga Session
DESCRIPTION:Come join us for a relaxing yoga session at the ASCENDKemet Collective Certified Farmers Market to elevate your mind\, body\, and spirit!
URL:https://ascendtials.org/events/ascendtials-farmers-market-yoga-session-3/
LOCATION:4325 Wightman Street  San Diego\, CA 92105\, 4325 Wightman Street\, San Diego\, California\, 92105\, United States
ATTACH;FMTTYPE=image/png:https://ascendtials.org/wp-content/uploads/2024/09/Farmers-Market-Yoga-Session-2160-x-1080-px.png
END:VEVENT
BEGIN:VEVENT
DTSTART;TZID=America/Los_Angeles:20240922T100000
DTEND;TZID=America/Los_Angeles:20240922T140000
DTSTAMP:20260423T161507
CREATED:20240904T184417Z
LAST-MODIFIED:20240904T184945Z
UID:23211-1726999200-1727013600@ascendtials.org
SUMMARY:ASCENDKemet Collective Certified Farmers’ Market of City Heights
DESCRIPTION:Ascendkemet COLLECTIVE is excited to present the Certified Farmers’ Market of City Heights! Join us for a vibrant celebration featuring fresh fruits\, veggies\, herbs\, antidotes\, drums\, and vendors from the diaspora. Enjoy live music and wisdom from our beloved elders. This event is a fantastic opportunity to connect with the community\, support local farmers\, and experience the rich cultural heritage of City Heights. \n\n\n\n\n\n\n\n\n\n\n\n\n\n\n\n\n\n\n\nLearn More
URL:https://ascendtials.org/events/ascendkemet-collective-certified-farmers-market-of-city-heights-3/
LOCATION:4325 Wightman Street  San Diego\, CA 92105\, 4325 Wightman Street\, San Diego\, California\, 92105\, United States
CATEGORIES:Healing Sessions
ATTACH;FMTTYPE=image/png:https://ascendtials.org/wp-content/uploads/2023/10/farmers_market.png
END:VEVENT
BEGIN:VEVENT
DTSTART;TZID=America/Los_Angeles:20240921T091500
DTEND;TZID=America/Los_Angeles:20240921T110000
DTSTAMP:20260423T161507
CREATED:20240912T014634Z
LAST-MODIFIED:20240912T014720Z
UID:23737-1726910100-1726916400@ascendtials.org
SUMMARY:ASCENDtials Climate Cares Highway Cleanup Event at Coronado Route 75
DESCRIPTION:ASCENDtials has adopted the Coronado 75 Highway to clean up a 1.4-mile stretch monthly. Join our cleanups! Build community and let’s clean!
URL:https://ascendtials.org/events/ascendtials-climate-cares-highway-cleanup-event-at-coronado-route-75/
LOCATION:Coronado Route 75 N & S\, 1701 Strand Way\, Coronado\, California\, 92118\, United States
ATTACH;FMTTYPE=image/png:https://ascendtials.org/wp-content/uploads/2024/09/highway_coronado.png
END:VEVENT
BEGIN:VEVENT
DTSTART;TZID=America/Los_Angeles:20240918T170000
DTEND;TZID=America/Los_Angeles:20240918T180000
DTSTAMP:20260423T161507
CREATED:20240904T183856Z
LAST-MODIFIED:20240904T183902Z
UID:23197-1726678800-1726682400@ascendtials.org
SUMMARY:Kemetic Yoga Wednesdays
DESCRIPTION:
URL:https://ascendtials.org/events/kemetic-yoga-wednesdays-3/
LOCATION:Silver Strand Beach\, 5000 CA-75\, Coronado\, California\, 92118\, United States
ATTACH;FMTTYPE=image/png:https://ascendtials.org/wp-content/uploads/2024/08/yoga-1.png
END:VEVENT
BEGIN:VEVENT
DTSTART;TZID=America/Los_Angeles:20240915T161500
DTEND;TZID=America/Los_Angeles:20240915T173000
DTSTAMP:20260423T161507
CREATED:20240205T035617Z
LAST-MODIFIED:20240904T181145Z
UID:15456-1726416900-1726421400@ascendtials.org
SUMMARY:Climate Cares Highway Cleanup
DESCRIPTION:ASCENDtials has adopted to clean the I-5 Poinsettia Ln. and La Costa Highway. Join our cleanups! Build community and let’s clean!
URL:https://ascendtials.org/events/climate-cares-highway-cleanup-6/
LOCATION:I-5 Poinsettia Ln. and La Costa Highway\, I-5 Poinsettia Ln. and La Costa Highway\, San Diego\, California\, 92009\, United States
CATEGORIES:Adopt-a-Highway Cleanups
ATTACH;FMTTYPE=image/png:https://ascendtials.org/wp-content/uploads/2024/02/cleanup.poi_.png
END:VEVENT
BEGIN:VEVENT
DTSTART;TZID=America/Los_Angeles:20240915T103000
DTEND;TZID=America/Los_Angeles:20240915T113000
DTSTAMP:20260423T161507
CREATED:20240911T070919Z
LAST-MODIFIED:20240911T070923Z
UID:23631-1726396200-1726399800@ascendtials.org
SUMMARY:ASCENDtials - Farmers' Market Yoga Session
DESCRIPTION:Come join us for a relaxing yoga session at the ASCENDKemet Collective Certified Farmers Market to elevate your mind\, body\, and spirit!
URL:https://ascendtials.org/events/ascendtials-farmers-market-yoga-session-2/
LOCATION:4325 Wightman Street  San Diego\, CA 92105\, 4325 Wightman Street\, San Diego\, California\, 92105\, United States
ATTACH;FMTTYPE=image/png:https://ascendtials.org/wp-content/uploads/2024/09/Farmers-Market-Yoga-Session-2160-x-1080-px.png
END:VEVENT
BEGIN:VEVENT
DTSTART;TZID=America/Los_Angeles:20240915T100000
DTEND;TZID=America/Los_Angeles:20240915T140000
DTSTAMP:20260423T161507
CREATED:20240904T184254Z
LAST-MODIFIED:20240904T184846Z
UID:23209-1726394400-1726408800@ascendtials.org
SUMMARY:ASCENDKemet Collective Certified Farmers’ Market of City Heights
DESCRIPTION:Ascendkemet COLLECTIVE is excited to present the Certified Farmers’ Market of City Heights! Join us for a vibrant celebration featuring fresh fruits\, veggies\, herbs\, antidotes\, drums\, and vendors from the diaspora. Enjoy live music and wisdom from our beloved elders. This event is a fantastic opportunity to connect with the community\, support local farmers\, and experience the rich cultural heritage of City Heights. \n\n\n\n\n\n\n\n\n\n\n\n\n\n\n\n\n\n\n\nLearn More
URL:https://ascendtials.org/events/ascendkemet-collective-certified-farmers-market-of-city-heights-2/
LOCATION:4325 Wightman Street  San Diego\, CA 92105\, 4325 Wightman Street\, San Diego\, California\, 92105\, United States
CATEGORIES:Healing Sessions
ATTACH;FMTTYPE=image/png:https://ascendtials.org/wp-content/uploads/2023/10/farmers_market.png
END:VEVENT
BEGIN:VEVENT
DTSTART;TZID=America/Los_Angeles:20240914T190000
DTEND;TZID=America/Los_Angeles:20240914T203000
DTSTAMP:20260423T161507
CREATED:20240204T215516Z
LAST-MODIFIED:20240911T194220Z
UID:15445-1726340400-1726345800@ascendtials.org
SUMMARY:Night Gazing
DESCRIPTION:Gaze upon the Night sky with us\, where stars quietly shimmer\, inviting you to share a moment of simple joy under the tranquil glow.
URL:https://ascendtials.org/events/night-gazing/
LOCATION:WILDCAT CANYON ROAD\, 1260 Wildcat canyon Road\, Lakeside\,\, California\, 92040\, United States
CATEGORIES:Healing Sessions
ATTACH;FMTTYPE=image/png:https://ascendtials.org/wp-content/uploads/2024/02/September-Event-Promo-BANNERS.png
END:VEVENT
BEGIN:VEVENT
DTSTART;TZID=America/Los_Angeles:20240914T091500
DTEND;TZID=America/Los_Angeles:20240914T113000
DTSTAMP:20260423T161507
CREATED:20231005T190754Z
LAST-MODIFIED:20240904T133521Z
UID:14035-1726305300-1726313400@ascendtials.org
SUMMARY:Climate Cares - Beach Cleanup
DESCRIPTION:Join us as we clean our adopted beach in Coronado at 10:15 am PST! All clean-ups will be held at Silver Strand Beach on Coronado Island\, near Cays Park. \n\n\n\nVolunteers will help clean up the Silver Stand Beach across from Cays Park. We will walk along the beach between 10:15 am and 11:30 am (PST). Please meet us at Lifeguard Vector 3 at Lot 2 for supplies and the brief orientation. \n\n\n\n\n\n\n\n\n\n\n\n\n\n\n\n\n\n\n\nLearn More
URL:https://ascendtials.org/events/climate-cares-beach-cleanup-2/
LOCATION:Silver Strand Beach\, 5000 CA-75\, Coronado\, California\, 92118\, United States
CATEGORIES:Cleanups
ATTACH;FMTTYPE=image/png:https://ascendtials.org/wp-content/uploads/2023/10/cleanup.beach2_.png
END:VEVENT
BEGIN:VEVENT
DTSTART;TZID=America/Los_Angeles:20240911T170000
DTEND;TZID=America/Los_Angeles:20240911T180000
DTSTAMP:20260423T161507
CREATED:20240819T193237Z
LAST-MODIFIED:20240909T072220Z
UID:22205-1726074000-1726077600@ascendtials.org
SUMMARY:Kemetic Yoga Wednesdays
DESCRIPTION:
URL:https://ascendtials.org/events/kemetic-yoga-wednesdays-2/
LOCATION:Silver Strand Beach\, 5000 CA-75\, Coronado\, California\, 92118\, United States
ATTACH;FMTTYPE=image/png:https://ascendtials.org/wp-content/uploads/2024/08/yoga-1.png
END:VEVENT
BEGIN:VEVENT
DTSTART;TZID=America/Los_Angeles:20240908T161500
DTEND;TZID=America/Los_Angeles:20240908T173000
DTSTAMP:20260423T161507
CREATED:20240229T183313Z
LAST-MODIFIED:20240904T144304Z
UID:14194-1725812100-1725816600@ascendtials.org
SUMMARY:Climate Care Highway Cleanup
DESCRIPTION:Join us and help us build the community by making its surroundings clean and garbage-free.
URL:https://ascendtials.org/events/climate-care-highway-cleanup/
LOCATION:Highway 15N\, Market Street\, San Diego\, California\, 92102
CATEGORIES:Adopt-a-Highway Cleanups
ATTACH;FMTTYPE=image/png:https://ascendtials.org/wp-content/uploads/2024/02/cleanup.15.png
END:VEVENT
BEGIN:VEVENT
DTSTART;TZID=America/Los_Angeles:20240908T103000
DTEND;TZID=America/Los_Angeles:20240908T113000
DTSTAMP:20260423T161507
CREATED:20240911T070539Z
LAST-MODIFIED:20240911T070542Z
UID:23628-1725791400-1725795000@ascendtials.org
SUMMARY:ASCENDtials - Farmers' Market Yoga Session
DESCRIPTION:Come join us for a relaxing yoga session at the ASCENDKemet Collective Certified Farmers Market to elevate your mind\, body\, and spirit!
URL:https://ascendtials.org/events/ascendtials-farmers-market-yoga-session/
LOCATION:4325 Wightman Street  San Diego\, CA 92105\, 4325 Wightman Street\, San Diego\, California\, 92105\, United States
ATTACH;FMTTYPE=image/png:https://ascendtials.org/wp-content/uploads/2024/09/Farmers-Market-Yoga-Session-2160-x-1080-px.png
END:VEVENT
BEGIN:VEVENT
DTSTART;TZID=America/Los_Angeles:20240908T100000
DTEND;TZID=America/Los_Angeles:20240908T140000
DTSTAMP:20260423T161507
CREATED:20231005T192447Z
LAST-MODIFIED:20240904T184737Z
UID:14044-1725789600-1725804000@ascendtials.org
SUMMARY:ASCENDKemet Collective Certified Farmers’ Market of City Heights
DESCRIPTION:Ascendkemet COLLECTIVE is excited to present the Certified Farmers’ Market of City Heights! Join us for a vibrant celebration featuring fresh fruits\, veggies\, herbs\, antidotes\, drums\, and vendors from the diaspora. Enjoy live music and wisdom from our beloved elders. This event is a fantastic opportunity to connect with the community\, support local farmers\, and experience the rich cultural heritage of City Heights. \n\n\n\n\n\n\n\n\n\n\n\n\n\n\n\n\n\n\n\nLearn More
URL:https://ascendtials.org/events/ascendkemet-collective-certified-farmers-market-of-city-heights/
LOCATION:4325 Wightman Street  San Diego\, CA 92105\, 4325 Wightman Street\, San Diego\, California\, 92105\, United States
CATEGORIES:Healing Sessions
ATTACH;FMTTYPE=image/png:https://ascendtials.org/wp-content/uploads/2023/10/farmers_market.png
END:VEVENT
BEGIN:VEVENT
DTSTART;TZID=America/Los_Angeles:20240907T091500
DTEND;TZID=America/Los_Angeles:20240907T113000
DTSTAMP:20260423T161507
CREATED:20240903T194528Z
LAST-MODIFIED:20240904T133139Z
UID:23115-1725700500-1725708600@ascendtials.org
SUMMARY:Black's Beach Cleanup
DESCRIPTION:Join us with I Love Clean San Diego to clean our beaches! This weekend\, we’re going to Torrey Pines – Gliderport/Black’s Beach. We welcome volunteers 18 years of age and older\, and groups are invited! Volunteers will meet at the Gilderport parking lot adjacent to the beach area\, then we’ll walk over together. Meet us there at 10:30 a.m when we will host a brief orientation before walking to the beach together at 11:00 a.m! After we finish\, plan to join us for a relaxing Kemetic Yoga session too! Bring your mat and let’s relax a bit! See you soon!
URL:https://ascendtials.org/events/black-beachs-cleanup/
LOCATION:Black’s Beach\, San Diego\, CA\, 92037\, United States
ATTACH;FMTTYPE=image/png:https://ascendtials.org/wp-content/uploads/2024/09/cleanup.beach_.png
END:VEVENT
BEGIN:VEVENT
DTSTART;TZID=America/Los_Angeles:20240901T100000
DTEND;TZID=America/Los_Angeles:20240901T140000
DTSTAMP:20260423T161507
CREATED:20240819T194023Z
LAST-MODIFIED:20240909T070254Z
UID:22207-1725184800-1725199200@ascendtials.org
SUMMARY:ASCENDKemet Collective Certified Farmers' Market
DESCRIPTION:Each Sunday\, our farmers’ market is filled with quality vendors concerned with providing fresh local produce\, great energy\, and low prices. Learn more about our vendors and products\, and enjoy the return of a much-needed source of products in the community. No food desert here\, thanks to our vendors and organizers!
URL:https://ascendtials.org/events/ascendkemet-collective-certified-farmers-market/
LOCATION:4325 Wightman Street  San Diego\, CA 92105\, 4325 Wightman Street\, San Diego\, California\, 92105\, United States
CATEGORIES:Healing Sessions
ATTACH;FMTTYPE=image/png:https://ascendtials.org/wp-content/uploads/2023/10/farmers_market.png
END:VEVENT
BEGIN:VEVENT
DTSTART;TZID=America/Los_Angeles:20240420T130000
DTEND;TZID=America/Los_Angeles:20240420T140000
DTSTAMP:20260423T161507
CREATED:20240229T200341Z
LAST-MODIFIED:20240630T174240Z
UID:15715-1713618000-1713621600@ascendtials.org
SUMMARY:BMS After-school Program with Park Takeover
DESCRIPTION:Hike with us\, as we explore the wonders of nature while expanding our knowledge and understanding of the world around us.
URL:https://ascendtials.org/events/bms-after-school-program-with-park-takeover/
LOCATION:Sweetwater Regional Summit Park\, 3218 Summit Meadow Rd.\, Bonita\, California\, 91902\, United States
ATTACH;FMTTYPE=image/png:https://ascendtials.org/wp-content/uploads/2024/02/15.png
END:VEVENT
END:VCALENDAR