BEGIN:VCALENDAR
VERSION:2.0
PRODID:-//ASCENDtials - ECPv6.15.20//NONSGML v1.0//EN
CALSCALE:GREGORIAN
METHOD:PUBLISH
X-WR-CALNAME:ASCENDtials
X-ORIGINAL-URL:https://ascendtials.org
X-WR-CALDESC:Events for ASCENDtials
REFRESH-INTERVAL;VALUE=DURATION:PT1H
X-Robots-Tag:noindex
X-PUBLISHED-TTL:PT1H
BEGIN:VTIMEZONE
TZID:America/Los_Angeles
BEGIN:DAYLIGHT
TZOFFSETFROM:-0800
TZOFFSETTO:-0700
TZNAME:PDT
DTSTART:20250309T100000
END:DAYLIGHT
BEGIN:STANDARD
TZOFFSETFROM:-0700
TZOFFSETTO:-0800
TZNAME:PST
DTSTART:20251102T090000
END:STANDARD
BEGIN:DAYLIGHT
TZOFFSETFROM:-0800
TZOFFSETTO:-0700
TZNAME:PDT
DTSTART:20260308T100000
END:DAYLIGHT
BEGIN:STANDARD
TZOFFSETFROM:-0700
TZOFFSETTO:-0800
TZNAME:PST
DTSTART:20261101T090000
END:STANDARD
BEGIN:DAYLIGHT
TZOFFSETFROM:-0800
TZOFFSETTO:-0700
TZNAME:PDT
DTSTART:20270314T100000
END:DAYLIGHT
BEGIN:STANDARD
TZOFFSETFROM:-0700
TZOFFSETTO:-0800
TZNAME:PST
DTSTART:20271107T090000
END:STANDARD
END:VTIMEZONE
BEGIN:VEVENT
DTSTART;TZID=America/Los_Angeles:20260308T101500
DTEND;TZID=America/Los_Angeles:20260308T110000
DTSTAMP:20260421T031317
CREATED:20260219T031905Z
LAST-MODIFIED:20260219T031905Z
UID:31209-1772964900-1772967600@ascendtials.org
SUMMARY:Silver Strand State Beach Cleanup
DESCRIPTION:
URL:https://ascendtials.org/events/silver-strand-state-beach-cleanup-2/
LOCATION:5000 CA-75\, Coronado\, CA 92118\, 5000 CA-75\, Coronado\, California\, 92118\, United States
END:VEVENT
BEGIN:VEVENT
DTSTART;TZID=America/Los_Angeles:20260312T160000
DTEND;TZID=America/Los_Angeles:20260312T180000
DTSTAMP:20260421T031317
CREATED:20260219T031905Z
LAST-MODIFIED:20260219T031905Z
UID:31215-1773331200-1773338400@ascendtials.org
SUMMARY:Mini Kettner Block Party / Happy Hour
DESCRIPTION:
URL:https://ascendtials.org/events/mini-kettner-block-party-happy-hour-7/
LOCATION:639 Kettner Blvd\, San Diego\, CA 92101\, 639 Kettner Blvd\, San Diego\, California\, 92101\, United States
END:VEVENT
BEGIN:VEVENT
DTSTART;TZID=America/Los_Angeles:20260315T121500
DTEND;TZID=America/Los_Angeles:20260315T140000
DTSTAMP:20260421T031317
CREATED:20260219T031905Z
LAST-MODIFIED:20260219T031905Z
UID:31224-1773576900-1773583200@ascendtials.org
SUMMARY:Climate Cares Highway Cleanup Series: Mission Bay
DESCRIPTION:
URL:https://ascendtials.org/events/climate-cares-highway-cleanup-series-mission-bay-2/
LOCATION:Highway 5 N 2865 National Avenue San Diego\, CA\, 92113\, Highway 5 N 2865 National Avenue\, San Diego\, California\, 92113\, United States
END:VEVENT
BEGIN:VEVENT
DTSTART;TZID=America/Los_Angeles:20260315T121500
DTEND;TZID=America/Los_Angeles:20260315T140000
DTSTAMP:20260421T031317
CREATED:20260219T031905Z
LAST-MODIFIED:20260219T031905Z
UID:31227-1773576900-1773583200@ascendtials.org
SUMMARY:Climate Cares Highway Cleanup Series: 47th Street
DESCRIPTION:
URL:https://ascendtials.org/events/climate-cares-highway-cleanup-series-47th-street-2/
LOCATION:1005 47th Street\, San Diego\, CA 92102\, 1005 47th Street\, San Diego\, California\, 92102\, United States
END:VEVENT
BEGIN:VEVENT
DTSTART;TZID=America/Los_Angeles:20260315T121500
DTEND;TZID=America/Los_Angeles:20260315T140000
DTSTAMP:20260421T031317
CREATED:20260219T031905Z
LAST-MODIFIED:20260219T031905Z
UID:31230-1773576900-1773583200@ascendtials.org
SUMMARY:Climate Cares Highway Cleanup Series: Gompers / Spring Valley
DESCRIPTION:
URL:https://ascendtials.org/events/climate-cares-highway-cleanup-series-gompers-spring-valley-2/
LOCATION:6377 Quarry Rd\, Spring Valley\, CA 91977\, 6377 Quarry Rd\, Spring Valley\, California\, 91977\, United States
END:VEVENT
BEGIN:VEVENT
DTSTART;TZID=America/Los_Angeles:20260319T160000
DTEND;TZID=America/Los_Angeles:20260319T180000
DTSTAMP:20260421T031317
CREATED:20260219T031905Z
LAST-MODIFIED:20260219T031905Z
UID:31218-1773936000-1773943200@ascendtials.org
SUMMARY:Mini Kettner Block Party / Happy Hour
DESCRIPTION:
URL:https://ascendtials.org/events/mini-kettner-block-party-happy-hour-6/
LOCATION:639 Kettner Blvd\, San Diego\, CA 92101\, 639 Kettner Blvd\, San Diego\, California\, 92101\, United States
END:VEVENT
BEGIN:VEVENT
DTSTART;TZID=America/Los_Angeles:20260326T160000
DTEND;TZID=America/Los_Angeles:20260326T180000
DTSTAMP:20260421T031317
CREATED:20260219T031904Z
LAST-MODIFIED:20260219T031904Z
UID:31221-1774540800-1774548000@ascendtials.org
SUMMARY:Mini Kettner Block Party / Happy Hour
DESCRIPTION:
URL:https://ascendtials.org/events/mini-kettner-block-party-happy-hour-5/
LOCATION:639 Kettner Blvd\, San Diego\, CA 92101\, 639 Kettner Blvd\, San Diego\, California\, 92101\, United States
END:VEVENT
BEGIN:VEVENT
DTSTART;TZID=America/Los_Angeles:20260402T160000
DTEND;TZID=America/Los_Angeles:20260402T180000
DTSTAMP:20260421T031317
CREATED:20260414T201801Z
LAST-MODIFIED:20260415T015205Z
UID:32510-1775145600-1775152800@ascendtials.org
SUMMARY:Mini Kettner Block Party / Happy Hour
DESCRIPTION:
URL:https://ascendtials.org/events/mini-kettner-block-party-happy-hour-9/
LOCATION:639 Kettner Blvd\, San Diego\, CA 92101\, 639 Kettner Blvd\, San Diego\, California\, 92101\, United States
ATTACH;FMTTYPE=image/png:https://ascendtials.org/wp-content/uploads/2026/04/Marina-District-Business-Association-MDBA-—-Powered-by-ASCENDtials-Were-activating-the-Kettner-Boulevard-corridor-with-vibrant-markets-block-parties-and-merchant-support-to-build-a-Business-I.png
END:VEVENT
BEGIN:VEVENT
DTSTART;TZID=America/Los_Angeles:20260405T101500
DTEND;TZID=America/Los_Angeles:20260405T110000
DTSTAMP:20260421T031317
CREATED:20260414T201020Z
LAST-MODIFIED:20260415T015649Z
UID:32491-1775384100-1775386800@ascendtials.org
SUMMARY:Climate Cares Black’s Beach Cleanup
DESCRIPTION:
URL:https://ascendtials.org/events/climate-cares-blacks-beach-cleanup/
LOCATION:2800 Torrey Pines Scenic Drive\, San Diego\, CA 92037\, 2800 Torrey Pines Scenic Drive\, San Diego\, California\, 95350\, United States
ATTACH;FMTTYPE=image/png:https://ascendtials.org/wp-content/uploads/2026/04/Blacks.png
END:VEVENT
BEGIN:VEVENT
DTSTART;TZID=America/Los_Angeles:20260409T160000
DTEND;TZID=America/Los_Angeles:20260409T180000
DTSTAMP:20260421T031317
CREATED:20260414T201900Z
LAST-MODIFIED:20260415T015156Z
UID:32513-1775750400-1775757600@ascendtials.org
SUMMARY:Mini Kettner Block Party / Happy Hour
DESCRIPTION:
URL:https://ascendtials.org/events/mini-kettner-block-party-happy-hour-10/
LOCATION:639 Kettner Blvd\, San Diego\, CA 92101\, 639 Kettner Blvd\, San Diego\, California\, 92101\, United States
ATTACH;FMTTYPE=image/png:https://ascendtials.org/wp-content/uploads/2026/04/Marina-District-Business-Association-MDBA-—-Powered-by-ASCENDtials-Were-activating-the-Kettner-Boulevard-corridor-with-vibrant-markets-block-parties-and-merchant-support-to-build-a-Business-I.png
END:VEVENT
BEGIN:VEVENT
DTSTART;TZID=America/Los_Angeles:20260412T101500
DTEND;TZID=America/Los_Angeles:20260412T113000
DTSTAMP:20260421T031317
CREATED:20260414T201311Z
LAST-MODIFIED:20260415T015445Z
UID:32498-1775988900-1775993400@ascendtials.org
SUMMARY:Silver Strand State Beach Cleanup
DESCRIPTION:
URL:https://ascendtials.org/events/silver-strand-state-beach-cleanup-3/
LOCATION:Silver Strand State Beach 5000 CA-75\, Coronado\, CA 92118\, Silver Strand State Beach 5000 CA-75\, Coronada\, California\, 92118\, United States
ATTACH;FMTTYPE=image/png:https://ascendtials.org/wp-content/uploads/2026/04/Silver-Strand.png
END:VEVENT
BEGIN:VEVENT
DTSTART;TZID=America/Los_Angeles:20260416T160000
DTEND;TZID=America/Los_Angeles:20260416T180000
DTSTAMP:20260421T031317
CREATED:20260414T201946Z
LAST-MODIFIED:20260415T015149Z
UID:32515-1776355200-1776362400@ascendtials.org
SUMMARY:Mini Kettner Block Party / Happy Hour
DESCRIPTION:
URL:https://ascendtials.org/events/mini-kettner-block-party-happy-hour-11/
LOCATION:639 Kettner Blvd\, San Diego\, CA 92101\, 639 Kettner Blvd\, San Diego\, California\, 92101\, United States
ATTACH;FMTTYPE=image/png:https://ascendtials.org/wp-content/uploads/2026/04/Marina-District-Business-Association-MDBA-—-Powered-by-ASCENDtials-Were-activating-the-Kettner-Boulevard-corridor-with-vibrant-markets-block-parties-and-merchant-support-to-build-a-Business-I.png
END:VEVENT
BEGIN:VEVENT
DTSTART;TZID=America/Los_Angeles:20260417T080000
DTEND;TZID=America/Los_Angeles:20260417T170000
DTSTAMP:20260421T031317
CREATED:20260417T223054Z
LAST-MODIFIED:20260417T223057Z
UID:32573-1776412800-1776445200@ascendtials.org
SUMMARY:Broadway Piers Farmers' Market
DESCRIPTION:
URL:https://ascendtials.org/events/broadway-piers-farmers-market/
ATTACH;FMTTYPE=image/png:https://ascendtials.org/wp-content/uploads/2026/04/April-Promo-2026-Event-Flyers-Instagram-Post-45-2.png
END:VEVENT
BEGIN:VEVENT
DTSTART;TZID=America/Los_Angeles:20260419T121500
DTEND;TZID=America/Los_Angeles:20260419T140000
DTSTAMP:20260421T031317
CREATED:20260414T201526Z
LAST-MODIFIED:20260415T015754Z
UID:32503-1776600900-1776607200@ascendtials.org
SUMMARY:Climate Cares Coronado Highway Cleanup
DESCRIPTION:
URL:https://ascendtials.org/events/climate-cares-coronado-highway-cleanup/
LOCATION:1701 Strandway Coronado\, CA 92118\, 1701 Strandway\, Coronado\, California\, 92118\, United States
ATTACH;FMTTYPE=image/png:https://ascendtials.org/wp-content/uploads/2026/04/HW-75-VEr2.png
END:VEVENT
BEGIN:VEVENT
DTSTART;TZID=America/Los_Angeles:20260422T160000
DTEND;TZID=America/Los_Angeles:20260422T173000
DTSTAMP:20260421T031317
CREATED:20260414T202504Z
LAST-MODIFIED:20260415T015340Z
UID:32525-1776873600-1776879000@ascendtials.org
SUMMARY:Kemetic Yoga Park Takeover
DESCRIPTION:
URL:https://ascendtials.org/events/kemetic-yoga-park-takeover/
LOCATION:6401 Skyline Dr\, San Diego\, CA 92114\, 6401 Skyline Dr\, San Diego\, California\, 92114\, United States
ATTACH;FMTTYPE=image/png:https://ascendtials.org/wp-content/uploads/2026/04/Park-Takeover-Instagram-Post-45.png
END:VEVENT
BEGIN:VEVENT
DTSTART;TZID=America/Los_Angeles:20260423T160000
DTEND;TZID=America/Los_Angeles:20260423T180000
DTSTAMP:20260421T031317
CREATED:20260414T202038Z
LAST-MODIFIED:20260415T015140Z
UID:32517-1776960000-1776967200@ascendtials.org
SUMMARY:Mini Kettner Block Party / Happy Hour
DESCRIPTION:
URL:https://ascendtials.org/events/mini-kettner-block-party-happy-hour-12/
LOCATION:639 Kettner Blvd\, San Diego\, CA 92101\, 639 Kettner Blvd\, San Diego\, California\, 92101\, United States
ATTACH;FMTTYPE=image/png:https://ascendtials.org/wp-content/uploads/2026/04/Marina-District-Business-Association-MDBA-—-Powered-by-ASCENDtials-Were-activating-the-Kettner-Boulevard-corridor-with-vibrant-markets-block-parties-and-merchant-support-to-build-a-Business-I.png
END:VEVENT
BEGIN:VEVENT
DTSTART;TZID=America/Los_Angeles:20260424T150000
DTEND;TZID=America/Los_Angeles:20260424T190000
DTSTAMP:20260421T031317
CREATED:20260414T202828Z
LAST-MODIFIED:20260415T020051Z
UID:32532-1777042800-1777057200@ascendtials.org
SUMMARY:Dock Party
DESCRIPTION:
URL:https://ascendtials.org/events/dock-party/
LOCATION:600 Convention Way\, San Diego\, CA 92101\, 600 Convention Way\, San Diego\, California\, 92101\, United States
ATTACH;FMTTYPE=image/png:https://ascendtials.org/wp-content/uploads/2026/04/April-Promo-2026-Event-Flyers-Instagram-Post-45-1.png
END:VEVENT
BEGIN:VEVENT
DTSTART;TZID=America/Los_Angeles:20260425T100000
DTEND;TZID=America/Los_Angeles:20260425T140000
DTSTAMP:20260421T031317
CREATED:20260414T202339Z
LAST-MODIFIED:20260415T015938Z
UID:32521-1777111200-1777125600@ascendtials.org
SUMMARY:City Heights Farmers' Market
DESCRIPTION:
URL:https://ascendtials.org/events/city-heights-farmers-market/
LOCATION:3735 38th St\, San Diego\, CA 92105\, 3735 38th St\, San Diego\, California\, 92105\, United States
ATTACH;FMTTYPE=image/png:https://ascendtials.org/wp-content/uploads/2026/04/April-Promo-2026-Event-Flyers-Instagram-Post-45.png
END:VEVENT
BEGIN:VEVENT
DTSTART;TZID=America/Los_Angeles:20260426T121500
DTEND;TZID=America/Los_Angeles:20260426T140000
DTSTAMP:20260421T031317
CREATED:20260414T201633Z
LAST-MODIFIED:20260417T222828Z
UID:32507-1777205700-1777212000@ascendtials.org
SUMMARY:Climate Cares Highway I-5 Cleanup
DESCRIPTION:
URL:https://ascendtials.org/events/climate-cares-highway-cleanup-28/
LOCATION:2688 East Mission Bay Drive San Diego\, CA 92109\, 2688 East Mission Bay Drive\, San Diego\, California\, 92109\, United States
ATTACH;FMTTYPE=image/png:https://ascendtials.org/wp-content/uploads/2026/04/Mission-bayVer3.png
END:VEVENT
BEGIN:VEVENT
DTSTART;TZID=America/Los_Angeles:20260429T080000
DTEND;TZID=America/Los_Angeles:20260429T170000
DTSTAMP:20260421T031317
CREATED:20260418T211638Z
LAST-MODIFIED:20260418T211644Z
UID:32582-1777449600-1777482000@ascendtials.org
SUMMARY:Highway 94 Cleanup
DESCRIPTION:
URL:https://ascendtials.org/events/highway-94-cleanup/
END:VEVENT
BEGIN:VEVENT
DTSTART;TZID=America/Los_Angeles:20260430T160000
DTEND;TZID=America/Los_Angeles:20260430T180000
DTSTAMP:20260421T031317
CREATED:20260414T202129Z
LAST-MODIFIED:20260415T015131Z
UID:32519-1777564800-1777572000@ascendtials.org
SUMMARY:Mini Kettner Block Party / Happy Hour
DESCRIPTION:
URL:https://ascendtials.org/events/mini-kettner-block-party-happy-hour-13/
LOCATION:639 Kettner Blvd\, San Diego\, CA 92101\, 639 Kettner Blvd\, San Diego\, California\, 92101\, United States
ATTACH;FMTTYPE=image/png:https://ascendtials.org/wp-content/uploads/2026/04/Marina-District-Business-Association-MDBA-—-Powered-by-ASCENDtials-Were-activating-the-Kettner-Boulevard-corridor-with-vibrant-markets-block-parties-and-merchant-support-to-build-a-Business-I.png
END:VEVENT
END:VCALENDAR