BEGIN:VCALENDAR
VERSION:2.0
PRODID:-//ASCENDtials - ECPv6.15.20//NONSGML v1.0//EN
CALSCALE:GREGORIAN
METHOD:PUBLISH
X-WR-CALNAME:ASCENDtials
X-ORIGINAL-URL:https://ascendtials.org
X-WR-CALDESC:Events for ASCENDtials
REFRESH-INTERVAL;VALUE=DURATION:PT1H
X-Robots-Tag:noindex
X-PUBLISHED-TTL:PT1H
BEGIN:VTIMEZONE
TZID:America/Los_Angeles
BEGIN:DAYLIGHT
TZOFFSETFROM:-0800
TZOFFSETTO:-0700
TZNAME:PDT
DTSTART:20210314T100000
END:DAYLIGHT
BEGIN:STANDARD
TZOFFSETFROM:-0700
TZOFFSETTO:-0800
TZNAME:PST
DTSTART:20211107T090000
END:STANDARD
BEGIN:DAYLIGHT
TZOFFSETFROM:-0800
TZOFFSETTO:-0700
TZNAME:PDT
DTSTART:20220313T100000
END:DAYLIGHT
BEGIN:STANDARD
TZOFFSETFROM:-0700
TZOFFSETTO:-0800
TZNAME:PST
DTSTART:20221106T090000
END:STANDARD
BEGIN:DAYLIGHT
TZOFFSETFROM:-0800
TZOFFSETTO:-0700
TZNAME:PDT
DTSTART:20230312T100000
END:DAYLIGHT
BEGIN:STANDARD
TZOFFSETFROM:-0700
TZOFFSETTO:-0800
TZNAME:PST
DTSTART:20231105T090000
END:STANDARD
END:VTIMEZONE
BEGIN:VEVENT
DTSTART;TZID=America/Los_Angeles:20220903T080000
DTEND;TZID=America/Los_Angeles:20220904T170000
DTSTAMP:20260423T194202
CREATED:20220818T205236Z
LAST-MODIFIED:20220818T210851Z
UID:8027-1662192000-1662310800@ascendtials.org
SUMMARY:Afro Con
DESCRIPTION:Come celebrate and enjoy comic book artists\, cosplay\, arts\, and culture in the spirit of Ubuntu: I am because we are and because we are therefore I am.\nConfirmed guests:\nOpening Keynote Speaker: Mr. Maxx Moses\nFood Justice: Jeremy Allen\nFuture of Divine Femininity and Divine Masculinity: Dr. Keisha Clark\, TRU7H\,\nPerforming Artist: Kahlil Nash\n$350 cash prize for best cosplay.\nAgenda\n9/2 – Pre-party @ Grafitti Gardens\n9/3 – 2pm Welcome at Jackie Robinson YMCA\nInteractive Opening Keynote – Mr. Maxx Moses\nExhibit Hall Open til 6pm\n8pm Film Premiere: Ojanoma by Denirani Films (admission begins at 7pm)\n9/4 – 12pm Exhibit Hall Doors Open at Jackie Robinson YMCA\nExhibit Hall/Event Ends at 6pm\nOur Vision is to provide an educational\, entertaining\, and informative space for creative and critical thinkers alongside community builders to experience speculative futures and the multiverse as an exploration of art as well as a world of opportunities.
URL:https://ascendtials.org/events/afro-con/
LOCATION:151 Ymca Way\, San Diego\, CA-92102
ATTACH;FMTTYPE=image/png:https://ascendtials.org/wp-content/uploads/2022/08/San-Diego-Afro-Con-2022-September-3-42022.png
END:VEVENT
BEGIN:VEVENT
DTSTART;VALUE=DATE:20220901
DTEND;VALUE=DATE:20220902
DTSTAMP:20260423T194202
CREATED:20220512T174635Z
LAST-MODIFIED:20220512T174635Z
UID:5733-1661990400-1662076799@ascendtials.org
SUMMARY:Board Meeting (Quarterly)
DESCRIPTION:More information will be provided soon! Please check back here for additional information on our next meeting.
URL:https://ascendtials.org/events/board-meeting-quarterly-2/
LOCATION:California
CATEGORIES:Board Meeting
END:VEVENT
BEGIN:VEVENT
DTSTART;TZID=America/Los_Angeles:20220828T100000
DTEND;TZID=America/Los_Angeles:20220828T113000
DTSTAMP:20260423T194202
CREATED:20220828T170000Z
LAST-MODIFIED:20220826T035252Z
UID:5559-1661680800-1661686200@ascendtials.org
SUMMARY:ASCENDTIALS Kemetic YOGA Sundays with the Super Heru Crew at the World Beat Center
DESCRIPTION:Performers: Titus Baker\, John Ortiz\, Nigel Zuniga\, Mika Marzette \nDate/Time: August 28 @ 10:00 am – 11:30 am \nVenue: WorldBeat Cultural Center (2100 Park Blvd\, San Diego\, CA 92101) \nPrice: $10-$35 \nSynopsis:  The session entails various yoga styles including Kemetic yoga\, the use of drums during the session and various sound healing technologies to elevate the experience.  Participants are truly relaxed at ease and experience fewer blockages and more agility after the session. \nKemetic Yoga is an ancient African Yoga art form that promotes African philosophy and practices that originated from the land of Kemet. This ancient Yoga art form emphasizes the rejuvenation of the body and mind as it attempts to provide BIPOC communities with cultural roots that stem from its antique African origins.-Y.R.H. \nOur goal is to encourage participants to explore KOS-Melanin-ology™ for a stronger KNOWLEDGE OF SELF as a form of self-healing so that we may transform structures that prevent change. Many factors contribute to keeping structures in place. Our health\, habits\, and conditioning contribute to improper thinking and lack of awareness\, but our ancestors designed a system that aids in understanding our body\, mind\, and breath through practice. We aim to get “straight” by embracing Ancient thoughts from our ancestors that we may become more aware of ourselves internally and externally in the detection of obstacles to our development. This program will also help to support our growing organization and mission. \n Book Now
URL:https://ascendtials.org/events/ascendtials-kemetic-yoga-sundays-with-the-super-heru-crew-at-the-world-beat-center-17/
LOCATION:WorldBeat Cultural Center\, 2100 Park Boulevard\, San Diego\, CA\, 92101\, United States
ATTACH;FMTTYPE=image/png:https://ascendtials.org/wp-content/uploads/2022/08/instagram-Kemetic-Yoga-Sundays-Instagram-Post-Square-1-2.png
END:VEVENT
BEGIN:VEVENT
DTSTART;TZID=America/Los_Angeles:20220809T180000
DTEND;TZID=America/Los_Angeles:20220809T190000
DTSTAMP:20260423T194202
CREATED:20220810T010000Z
LAST-MODIFIED:20220805T174909Z
UID:7550-1660068000-1660071600@ascendtials.org
SUMMARY:Generational Wealth Workshop Part 2
DESCRIPTION:  \n \nSharyna Scott from Scott Law and ASCENDtials is back at Cafe X for her second session on generational wealth! This workshop is designed to continue the conversation discussed in the previous session. Insight will be provided to those from the previous workshop as well as those just joining on the topic of transgenerational trauma we hold about land within the United States. By discussing this topic it will allow participants to heal and learn to preserve our land and story. \n			\n						Register here
URL:https://ascendtials.org/events/generational-wealth-workshop-part-2/
LOCATION:1835 Imperial Avenue  San Diego\, CA 92102
ATTACH;FMTTYPE=image/png:https://ascendtials.org/wp-content/uploads/2022/08/Copy-of-Building-Generational-Wealth-Workshop1-Instagram-Post-Square-2.png
END:VEVENT
BEGIN:VEVENT
DTSTART;VALUE=DATE:20220805
DTEND;VALUE=DATE:20220808
DTSTAMP:20260423T194202
CREATED:20220507T020108Z
LAST-MODIFIED:20220507T020646Z
UID:5564-1659657600-1659916799@ascendtials.org
SUMMARY:ASCENDtials Yoga Retreat in Merida\, Mexico (TBD)
DESCRIPTION:We are taking our next Divine Femininity Retreat to Merida\, Mexico! Join us for a weekend of wellness\, luxury\, and black girl magic. Details coming soon.
URL:https://ascendtials.org/events/ascendtials-yoga-retreat-in-merida-mexico-tbd/
LOCATION:California
CATEGORIES:Divine Femininity Retreats
ATTACH;FMTTYPE=image/jpeg:https://ascendtials.org/wp-content/uploads/2022/04/AdobeStock_83484087-scaled.jpeg
END:VEVENT
BEGIN:VEVENT
DTSTART;TZID=America/Los_Angeles:20220804T120000
DTEND;TZID=America/Los_Angeles:20220804T130000
DTSTAMP:20260423T194202
CREATED:20220804T190000Z
LAST-MODIFIED:20230327T200805Z
UID:6715-1659614400-1659618000@ascendtials.org
SUMMARY:KOSMelaninology™ BOOK CLUB with Tonia Ferguson on Unlearn
DESCRIPTION:During the event\, we will have discussions with Tonia\, based on a book “Unlearn: 101 Simple Truths for a Better Life\,” by Humble the Poet. About this eventTonia is the Advocacy & Community Director at ASCENDtials. The book we will use for the event will help you learn new\, unconventional ways of moving through life. About the Book Unlearn: 101 Simple Truths for a Better Life\, by Humble the Poet “The internationally bestselling self-empowerment book from influencer\, rapper\, and spoken word artist Humble the Poet\, now available in a new edition with a new foreword by the author. Unlearn offers short\, accessible\, and counterintuitive lessons for reaching our full potential. In Unlearn\, he opens our eyes to our own lives\, helping us to recognize the possibilities that await us and the challenges that prevent us from realizing our dreams. With his characteristic honesty and forthrightness\, he helps us shed the problematic lessons we’ve learned throughout our lives that limit us\, from sabotaging habits\, to fixed mindsets\, to past regrets\, and relearn new\, unconventional ways of moving through life. “ Among his 101 lessons are: -Fitting In Is a Pointless Activity -Don’t Trust Everything You Feel -Killing Expectations Births Happiness -Comparisons are Killer -Baby Steps Add Up -You Decide Your Worth
URL:https://ascendtials.org/events/kosmelaninology-book-club-with-tonia-ferguson-on-unlearn/
LOCATION:California
ATTACH;FMTTYPE=image/png:https://ascendtials.org/wp-content/uploads/2022/07/Book-Club-2.png
END:VEVENT
BEGIN:VEVENT
DTSTART;TZID=America/Los_Angeles:20220801T083000
DTEND;TZID=America/Los_Angeles:20220805T170000
DTSTAMP:20260423T194202
CREATED:20220801T153000Z
LAST-MODIFIED:20220706T193947Z
UID:6948-1659342600-1659718800@ascendtials.org
SUMMARY:Build my Spirit- Summer Camp
DESCRIPTION:Why Build My Spirit Program\n Our authentic Build My Spirit curriculum covers 7 topics\, including physical activities and the arts for children ages 5-17. The curriculum is customized for every age group and experience level that will educate on the concept of natural sciences: water\, fire\, air\, earth\, the current condition they are in\, and how we should nurture and use them in a sustainable manner.\nMoreover\, the participants will learn about the five senses and how to tune into the “sixth one” through practical activities: yoga\, art\, music\, hiking\, swimming\, observing our community garden\, healthy meals\, djembe drumming\, museum visits\, and activities focused on imagination\, critical thinking\, building intuition\, and consciousness\, tapping into humanity and achieving alignment\, gaining higher-level problem-solving skills\, social-emotional learning\, practicing balance and harmony according to the life cycles and laws of nature. We are certain your child will learn to think more holistically and learn more intuitively the importance of protecting and preserving nature and humanity!
URL:https://ascendtials.org/events/build-my-spirit-summer-camp-2/
LOCATION:California
ATTACH;FMTTYPE=image/png:https://ascendtials.org/wp-content/uploads/2022/05/Build-My-Spirit-Facebook-Cover-2.png
END:VEVENT
BEGIN:VEVENT
DTSTART;TZID=America/Los_Angeles:20220731T100000
DTEND;TZID=America/Los_Angeles:20220731T113000
DTSTAMP:20260423T194202
CREATED:20220731T170000Z
LAST-MODIFIED:20220728T201653Z
UID:7480-1659261600-1659267000@ascendtials.org
SUMMARY:Meetup for Racial Justice- Kemetic Yoga Hosted by ASCENDtials\, RiseupSandiego\, Nigel Zuniga
DESCRIPTION:Kemetic Yoga is an ancient African Yoga art form that promotes African philosophy and practices that originated from the land of Kemet. This ancient Yoga art form emphasizes the rejuvenation of the body and mind as it attempts to provide BIPOC communities with cultural roots that stem from its antique African origins.-Y.R.H.\nOur goal is to encourage participants to explore KOS-Melanin-ology™ for a stronger KNOWLEDGE OF SELF as a form of self-healing so that we may transform structures that prevent change. Many factors contribute to keeping structures in place. Our health\, habits\, and conditioning contribute to improper thinking and lack of awareness\, but our ancestors designed a system that aids in understanding our body\, mind\, and breath through practice. We aim to get “straight” by embracing Ancient thoughts from our ancestors that we may become more aware of ourselves internally and externally in the detection of obstacles to our development. This program will also help to support our growing organization and mission.\n			\n						Book Now
URL:https://ascendtials.org/events/meetup-for-racial-justice-kemetic-yoga-hosted-by-ascendtials-riseupsandiego-nigel-zuniga/
LOCATION:WorldBeat Cultural Center\, 2100 Park Boulevard\, San Diego\, CA\, 92101\, United States
ATTACH;FMTTYPE=image/png:https://ascendtials.org/wp-content/uploads/2022/07/5-Tix-available.png
END:VEVENT
BEGIN:VEVENT
DTSTART;TZID=America/Los_Angeles:20220722T210000
DTEND;TZID=America/Los_Angeles:20220723T000000
DTSTAMP:20260423T194202
CREATED:20220723T040000Z
LAST-MODIFIED:20220721T205801Z
UID:7322-1658523600-1658534400@ascendtials.org
SUMMARY:Afrofuturism Lounge After Party
DESCRIPTION:Afrofuturism Lounge After Party: Grown and Sexy Cosplay
URL:https://ascendtials.org/events/afrofuturism-lounge-after-party/
LOCATION:531 F St\, San Diego\, CA 92101
ATTACH;FMTTYPE=image/jpeg:https://ascendtials.org/wp-content/uploads/2022/07/WARRIOR.jpeg
END:VEVENT
BEGIN:VEVENT
DTSTART;TZID=America/Los_Angeles:20220722T150000
DTEND;TZID=America/Los_Angeles:20220722T170000
DTSTAMP:20260423T194202
CREATED:20220722T220000Z
LAST-MODIFIED:20220721T203454Z
UID:7316-1658502000-1658509200@ascendtials.org
SUMMARY:Healing Session-Discussion of Melanin
DESCRIPTION:Healing Session Discussion of Melanin By Dr. Lawana Richmond and Mika Marzette and Dr. Keisha Clark
URL:https://ascendtials.org/events/healing-session-discussion-of-melanin/
LOCATION:California
ATTACH;FMTTYPE=image/png:https://ascendtials.org/wp-content/uploads/2022/07/July-22nd-@Quartyard-2pm_.png
END:VEVENT
BEGIN:VEVENT
DTSTART;TZID=America/Los_Angeles:20220722T140000
DTEND;TZID=America/Los_Angeles:20220722T150000
DTSTAMP:20260423T194202
CREATED:20220721T201252Z
LAST-MODIFIED:20220721T201252Z
UID:7313-1658498400-1658502000@ascendtials.org
SUMMARY:Divine Femininity Healing Session with Dr. Keisha Clark
DESCRIPTION:Divine Femininity Healing Session with Dr. Keisha Clark
URL:https://ascendtials.org/events/divine-femininity-healing-session-with-dr-keisha-clark/
LOCATION:California
END:VEVENT
BEGIN:VEVENT
DTSTART;TZID=America/Los_Angeles:20220721T140000
DTEND;TZID=America/Los_Angeles:20220721T150000
DTSTAMP:20260423T194202
CREATED:20220721T210000Z
LAST-MODIFIED:20220721T190454Z
UID:7307-1658412000-1658415600@ascendtials.org
SUMMARY:Kemetic Yoga with Mika Marzette accompanied by Baba Nana on Drums
DESCRIPTION:Kemetic Yoga with Mika Marzette accompanied by Baba Nana on Drums at 5th Annual Afrofuturism Lounge 
URL:https://ascendtials.org/events/kemetic-yoga-with-mika-marzette-accompanied-by-baba-nana-on-drums/
LOCATION:1301 Market Street\, San Diego\, CA-92101
ATTACH;FMTTYPE=image/png:https://ascendtials.org/wp-content/uploads/2022/07/Original-size-Noot-Instagram-Post-Portrait-Instagram-Post.png
END:VEVENT
BEGIN:VEVENT
DTSTART;TZID=America/Los_Angeles:20220721T080000
DTEND;TZID=America/Los_Angeles:20220722T170000
DTSTAMP:20260423T194202
CREATED:20220721T150000Z
LAST-MODIFIED:20220721T175940Z
UID:6356-1658390400-1658509200@ascendtials.org
SUMMARY:AFROFUTURISM LOUNGE BORN TO BUILD WORLDS
DESCRIPTION:  \n  \nBlack Comic Creators\, Artists\, Writers\, Designers\, and Innovators  Collide! \nOur Vision is to provide an educational\, entertaining\, and informative space for creative and critical thinkers alongside community builders to experience speculative futures and the multiverse as an exploration of art as well as a world of opportunities.
URL:https://ascendtials.org/events/afrofuturism-lounge-born-to-build-worlds/
LOCATION:1301 Market Street\, San Diego\, CA-92101
ATTACH;FMTTYPE=image/png:https://ascendtials.org/wp-content/uploads/2022/07/Capture-1.png
END:VEVENT
BEGIN:VEVENT
DTSTART;TZID=America/Los_Angeles:20220625T150000
DTEND;TZID=America/Los_Angeles:20220625T210000
DTSTAMP:20260423T194202
CREATED:20220625T220000Z
LAST-MODIFIED:20220615T194614Z
UID:6155-1656169200-1656190800@ascendtials.org
SUMMARY:The Divine Feminine Festival
DESCRIPTION:JOIN US at The Divine Feminine Festival – San Diego!!! SHOP\, EAT\, & LEARN. FREE GIFTS FOR ALL WOMEN! \nAbout this event \nEXPERIENCE an enlightening event that takes self care from the physical to the spiritual and cultural.\nREGISTRATION REQUIRED\n$20.00 General Admission | $5.00 Children 6-13 | Children under 5 FREE!!!\nSHOP CULTURAL VENDORS: Products will be available for sale ( clothing\, fabric\, art\, spiritual powders & perfumes\, oils\, sweet treats & more).\nENJOY the Holistic Market\, African Drumming\, African Henna\, Yoga & Meditation\, Sound Healing\, Crafting\, Vegan Eats\, Private Dinner\, Orisha Celebration & More\nACCESS LEARN & GROW WORKSHOPS 3-6PM !\nFIRST\nHealing Oasis I – Spiritual Purification Baths by Priestess (@HANEERA ABOUNU) Hands-On Workshop: For hands on demonstrations Please bring your sandals\, towels & Bathing Suites. For more information visit www.divinefeminine.net\nNEXT\nHealing Oasis II- Yoga & Sound Bowl Healing Workshop (@_exxtraordinary) Shekinah Denae\nTHEN\nHealing Oasis III- Breathe Work & Affirmations Workshop (@VENUSSUBLIME) The Divine Presenter: Become aware of your body and heal your spirit through breath work. To be intentional is divine.\nFINALLY\nHealing Oasis IV- Spirit & Soul Lets Talk Spirit (@EMPRESSJOSHETT): Connected and In-tune. Recognizing & Understanding spiritual communication in nature. www.empressjoshett.com\nORISHA CELEBRATION 6-9pm\nENJOY Live Music & Drumming\nEXPERIENCE: The Divine Presentation of vibration healing(@VENUSSUBLIME )& (@_exxtraordinary)\nVIBE with Spoken word\nPrivate Upscale Green Dinner by CHEF GOLDIE (LIMITED SEATING AVAILABLE)\nVENDORS TXT 832-763-7493
URL:https://ascendtials.org/events/the-divine-feminine-festival/
LOCATION:California
ATTACH;FMTTYPE=image/jpeg:https://ascendtials.org/wp-content/uploads/2022/06/IMG_4403.jpg
END:VEVENT
BEGIN:VEVENT
DTSTART;TZID=America/Los_Angeles:20220623T120000
DTEND;TZID=America/Los_Angeles:20220623T130000
DTSTAMP:20260423T194202
CREATED:20220624T000000Z
LAST-MODIFIED:20230327T200736Z
UID:6363-1655985600-1655989200@ascendtials.org
SUMMARY:KOSMelaninology ™ (Knowledge Of Self and the study of Melanin) BOOK CLUB
DESCRIPTION:An event that will explore different topics related to Melanin and its benefits\nAbout this event\nWith the topic of Mental health always in the news and its stigma gripping nations\, we all must gain a better understanding of what our education has taught us or not taught us about our own mental health. We as Blacks\, are affected immensely by not knowing ourselves and not understanding how to manage our overall health. Knowing thy Self and understanding the role of Melanin in our lives is certainly part of that. To reject the knowledge and application of tools our ancient ancestors left for us is in itself anti-blackness and signals great alarm. We aren’t all the same\, and the fact that we’ve behaved the way we do\, has caused great detriment to our health. I’m of the opinion that we must take greater control over “knowing thyself” which is written above many structures in ancient Kemet\, and we want to embrace this wisdom of our ancestors\, so that we might save ourselves from our current identity crisis and downward slope of “whiteness”. We want people to be able to understand the purpose of this melanin on the outer core of the skin\, so as to inspire those who cannot pass as white\, to reidentify with what “black” always is and has been (despite the propaganda that has everyone buying and drinking the Kool-Aid) and know that is a powerful conductor of energy\, that needs to be harnessed properly or risk calcification and the ability to connect with our spiritual selves. If you need answers\, you’ll surely find them here.
URL:https://ascendtials.org/events/kosmelaninology-knowledge-of-self-and-the-study-of-melanin-book-club/
LOCATION:California
ATTACH;FMTTYPE=image/jpeg:https://ascendtials.org/wp-content/uploads/2022/06/KOS-Melanin-ology™.jpg
END:VEVENT
BEGIN:VEVENT
DTSTART;VALUE=DATE:20220601
DTEND;VALUE=DATE:20220602
DTSTAMP:20260423T194203
CREATED:20220512T174545Z
LAST-MODIFIED:20220512T174545Z
UID:5731-1654041600-1654127999@ascendtials.org
SUMMARY:Board Meeting (Quarterly)
DESCRIPTION:More information will be provided soon! Please check back here for additional information on our next meeting.
URL:https://ascendtials.org/events/board-meeting-quarterly/
LOCATION:California
CATEGORIES:Board Meeting
END:VEVENT
BEGIN:VEVENT
DTSTART;VALUE=DATE:20220523
DTEND;VALUE=DATE:20220524
DTSTAMP:20260423T194203
CREATED:20220512T173053Z
LAST-MODIFIED:20220512T173053Z
UID:5717-1653264000-1653350399@ascendtials.org
SUMMARY:Launch of our new ASCENDtials Resource Hub (COMING SOON MAY 2022)
DESCRIPTION:We are excited to launch a newly designed Resources hub of the ASCENDtials website! The goal of our Resource Hub is to offer advice on growing your own food\, becoming a landowner\, improving water and air quality\, taking part in cleanup projects and national park tours\, thus benefiting and optimizing your quality of life. \n Learn More
URL:https://ascendtials.org/events/launch-of-our-new-ascendtials-resource-hub-coming-soon-may-2022/
LOCATION:California
CATEGORIES:ASCENDtials Resource Hub
END:VEVENT
BEGIN:VEVENT
DTSTART;TZID=America/Los_Angeles:20220501T100000
DTEND;TZID=America/Los_Angeles:20220501T113000
DTSTAMP:20260423T194203
CREATED:20220412T195002Z
LAST-MODIFIED:20220422T193902Z
UID:4715-1651399200-1651404600@ascendtials.org
SUMMARY:Kemetic Yoga Sundays with Onyeka and Nigel Zuniga on Drums
DESCRIPTION:Kemetic Yoga is an ancient African Yoga art form that promotes African philosophy and practices that originated from the land of Kemet. This ancient Yoga art form emphasizes the rejuvenation of the body and mind as it attempts to provide BIPOC communities with cultural roots that stem from its antique African origins.-Y.R.H. \nOur goal is to encourage participants to explore KOS-Melanin-ology™ for a stronger KNOWLEDGE OF SELF as a form of self-healing so that we may transform structures that prevent change. Many factors contribute to keeping structures in place. Our health\, habits\, and conditioning contribute to improper thinking and lack of awareness\, but our ancestors designed a system that aids in understanding our body\, mind\, and breath through practice. We aim to get “straight” by embracing Ancient thoughts from our ancestors that we may become more aware of ourselves internally and externally in the detection of obstacles to our development. This program will also help to support our growing organization and mission. \n\n Book Now
URL:https://ascendtials.org/events/kemetic-yoga-sundays-with-onyeka-and-nigel-zuniga-on-drums-2/
LOCATION:WorldBeat Cultural Center\, 2100 Park Boulevard\, San Diego\, CA\, 92101\, United States
END:VEVENT
BEGIN:VEVENT
DTSTART;VALUE=DATE:20220429
DTEND;VALUE=DATE:20220502
DTSTAMP:20260423T194203
CREATED:20220413T171958Z
LAST-MODIFIED:20220413T171958Z
UID:4741-1651190400-1651449599@ascendtials.org
SUMMARY:Scottsdale Yoga Retreat
DESCRIPTION:Dwell into wellness with us for 2 nights and 3 days at the 2021 Travelers’ Choice Award Winner resort in Scottsdale\, Arizona! \n  \n Learn More
URL:https://ascendtials.org/events/scottsdale-yoga-retreat/
LOCATION:California
CATEGORIES:Divine Femininity Retreats
ATTACH;FMTTYPE=image/jpeg:https://ascendtials.org/wp-content/uploads/2022/03/AdobeStock_364376956-scaled.jpeg
END:VEVENT
BEGIN:VEVENT
DTSTART;TZID=America/Los_Angeles:20220424T100000
DTEND;TZID=America/Los_Angeles:20220424T113000
DTSTAMP:20260423T194203
CREATED:20220412T194831Z
LAST-MODIFIED:20220422T194002Z
UID:4713-1650794400-1650799800@ascendtials.org
SUMMARY:ASCENDTIALS Kemetic YOGA at the World Beat Center Earth Day w/ Onyeka Tefari
DESCRIPTION:Kemetic Yoga is an ancient African Yoga art form that promotes African philosophy and practices that originated from the land of Kemet. This ancient Yoga art form emphasizes the rejuvenation of the body and mind as it attempts to provide BIPOC communities with cultural roots that stem from its antique African origins.-Y.R.H. \nOur goal is to encourage participants to explore KOS-Melanin-ology™ for a stronger KNOWLEDGE OF SELF as a form of self-healing so that we may transform structures that prevent change. Many factors contribute to keeping structures in place. Our health\, habits\, and conditioning contribute to improper thinking and lack of awareness\, but our ancestors designed a system that aids in understanding our body\, mind\, and breath through practice. We aim to get “straight” by embracing Ancient thoughts from our ancestors that we may become more aware of ourselves internally and externally in the detection of obstacles to our development. This program will also help to support our growing organization and mission. \n\n Book Now
URL:https://ascendtials.org/events/kemetic-yoga-sundays-with-onyeka-and-nigel-zuniga-on-drums/
LOCATION:WorldBeat Cultural Center\, 2100 Park Boulevard\, San Diego\, CA\, 92101\, United States
ATTACH;FMTTYPE=image/png:https://ascendtials.org/wp-content/uploads/2022/04/Original-size-Kemetic-Yoga-woldbeat10ameventbrite-Instagram-Post-1.png
END:VEVENT
BEGIN:VEVENT
DTSTART;TZID=America/Los_Angeles:20220417T100000
DTEND;TZID=America/Los_Angeles:20220417T113000
DTSTAMP:20260423T194203
CREATED:20220412T190914Z
LAST-MODIFIED:20220422T194036Z
UID:4661-1650189600-1650195000@ascendtials.org
SUMMARY:Kemetic Yoga Sundays with Onyeka and Nigel Zuniga on Drums
DESCRIPTION:Kemetic Yoga is an ancient African Yoga art form that promotes African philosophy and practices that originated from the land of Kemet. This ancient Yoga art form emphasizes the rejuvenation of the body and mind as it attempts to provide BIPOC communities with cultural roots that stem from its antique African origins.-Y.R.H. \nOur goal is to encourage participants to explore KOS-Melanin-ology™ for a stronger KNOWLEDGE OF SELF as a form of self-healing so that we may transform structures that prevent change. Many factors contribute to keeping structures in place. Our health\, habits\, and conditioning contribute to improper thinking and lack of awareness\, but our ancestors designed a system that aids in understanding our body\, mind\, and breath through practice. We aim to get “straight” by embracing Ancient thoughts from our ancestors that we may become more aware of ourselves internally and externally in the detection of obstacles to our development. This program will also help to support our growing organization and mission. \n\n Book Now
URL:https://ascendtials.org/events/kemetic-yoga-sundays/
LOCATION:WorldBeat Cultural Center\, 2100 Park Boulevard\, San Diego\, CA\, 92101\, United States
ATTACH;FMTTYPE=image/png:https://ascendtials.org/wp-content/uploads/2022/04/Kemetic-Yoga-Sundays-at-the-world-beater-Cultural-Center-1.png
END:VEVENT
END:VCALENDAR