BEGIN:VCALENDAR
VERSION:2.0
PRODID:-//ASCENDtials - ECPv6.15.20//NONSGML v1.0//EN
CALSCALE:GREGORIAN
METHOD:PUBLISH
X-WR-CALNAME:ASCENDtials
X-ORIGINAL-URL:https://ascendtials.org
X-WR-CALDESC:Events for ASCENDtials
REFRESH-INTERVAL;VALUE=DURATION:PT1H
X-Robots-Tag:noindex
X-PUBLISHED-TTL:PT1H
BEGIN:VTIMEZONE
TZID:America/Los_Angeles
BEGIN:DAYLIGHT
TZOFFSETFROM:-0800
TZOFFSETTO:-0700
TZNAME:PDT
DTSTART:20240310T100000
END:DAYLIGHT
BEGIN:STANDARD
TZOFFSETFROM:-0700
TZOFFSETTO:-0800
TZNAME:PST
DTSTART:20241103T090000
END:STANDARD
BEGIN:DAYLIGHT
TZOFFSETFROM:-0800
TZOFFSETTO:-0700
TZNAME:PDT
DTSTART:20250309T100000
END:DAYLIGHT
BEGIN:STANDARD
TZOFFSETFROM:-0700
TZOFFSETTO:-0800
TZNAME:PST
DTSTART:20251102T090000
END:STANDARD
BEGIN:DAYLIGHT
TZOFFSETFROM:-0800
TZOFFSETTO:-0700
TZNAME:PDT
DTSTART:20260308T100000
END:DAYLIGHT
BEGIN:STANDARD
TZOFFSETFROM:-0700
TZOFFSETTO:-0800
TZNAME:PST
DTSTART:20261101T090000
END:STANDARD
END:VTIMEZONE
BEGIN:VEVENT
DTSTART;TZID=America/Los_Angeles:20250906T103000
DTEND;TZID=America/Los_Angeles:20250906T113000
DTSTAMP:20260423T180458
CREATED:20250831T191121Z
LAST-MODIFIED:20250831T191151Z
UID:29197-1757154600-1757158200@ascendtials.org
SUMMARY:Kemetic Yoga Session @ Farmers' Market
DESCRIPTION:
URL:https://ascendtials.org/events/kemetic-yoga-session-farmers-market-26/
LOCATION:4325 Wightman Street  San Diego\, CA 92105\, 4325 Wightman Street\, San Diego\, California\, 92105\, United States
ATTACH;FMTTYPE=image/jpeg:https://ascendtials.org/wp-content/uploads/2025/08/city-heights-yoga.jpeg
END:VEVENT
BEGIN:VEVENT
DTSTART;TZID=America/Los_Angeles:20250906T150000
DTEND;TZID=America/Los_Angeles:20250906T190000
DTSTAMP:20260423T180458
CREATED:20250901T011653Z
LAST-MODIFIED:20250901T012432Z
UID:29225-1757170800-1757185200@ascendtials.org
SUMMARY:ASCENDKemet Collective Certified Farmers’ Market of Oak Park
DESCRIPTION:
URL:https://ascendtials.org/events/ascendkemet-collective-certified-farmers-market-of-oak-park-3/
LOCATION:1755 Euclid Ave\, San Diego\, CA 92105\, 1755 Euclid Ave\, San Diego\, California\, 92105\, United States
ATTACH;FMTTYPE=image/png:https://ascendtials.org/wp-content/uploads/2025/08/OAK-Market-Flyer.png
END:VEVENT
BEGIN:VEVENT
DTSTART;TZID=America/Los_Angeles:20250906T153000
DTEND;TZID=America/Los_Angeles:20250906T163000
DTSTAMP:20260423T180458
CREATED:20250901T013118Z
LAST-MODIFIED:20250901T013153Z
UID:29230-1757172600-1757176200@ascendtials.org
SUMMARY:ASCENDKemet Oak Park Farmers’ Market Kemetic Yoga Session
DESCRIPTION:
URL:https://ascendtials.org/events/ascendkemet-oak-park-farmers-market-kemetic-yoga-session-3/
LOCATION:1755 Euclid Ave\, San Diego\, CA 92105\, 1755 Euclid Ave\, San Diego\, California\, 92105\, United States
ATTACH;FMTTYPE=image/jpeg:https://ascendtials.org/wp-content/uploads/2025/08/oakpark-yoga.jpeg
END:VEVENT
BEGIN:VEVENT
DTSTART;TZID=America/Los_Angeles:20250907T101500
DTEND;TZID=America/Los_Angeles:20250907T113000
DTSTAMP:20260423T180458
CREATED:20250901T021033Z
LAST-MODIFIED:20250901T021055Z
UID:29242-1757240100-1757244600@ascendtials.org
SUMMARY:Climate Cares Beach Cleanup @ Black's Beach
DESCRIPTION:
URL:https://ascendtials.org/events/climate-cares-beach-cleanup-blacks-beach/
LOCATION:2800 Torrey Pines Scenic Drive\, San Diego\, CA 92037\, 2800 Torrey Pines Scenic Drive\, San Diego\, California\, 95350\, United States
ATTACH;FMTTYPE=image/png:https://ascendtials.org/wp-content/uploads/2025/07/blacks_beach.png
END:VEVENT
BEGIN:VEVENT
DTSTART;TZID=America/Los_Angeles:20250912T103000
DTEND;TZID=America/Los_Angeles:20250912T130000
DTSTAMP:20260423T180458
CREATED:20250827T143851Z
LAST-MODIFIED:20250827T153919Z
UID:29157-1757673000-1757682000@ascendtials.org
SUMMARY:Ascendtials Food Distribution Fair
DESCRIPTION:
URL:https://ascendtials.org/events/ascendtials-food-distribution-fair-3/
LOCATION:Officer Jeremy Henwood Memorial Park 4455 Wightman Street San Diego\, CA 92105\, 4455 Wightman Street\, San Diego\, California\, 92105\, United States
ATTACH;FMTTYPE=image/png:https://ascendtials.org/wp-content/uploads/2025/08/March-2025-Food-Rescue-Flyers-2.png
END:VEVENT
BEGIN:VEVENT
DTSTART;TZID=America/Los_Angeles:20250912T150000
DTEND;TZID=America/Los_Angeles:20250912T190000
DTSTAMP:20260423T180458
CREATED:20250831T201502Z
LAST-MODIFIED:20250831T201829Z
UID:29209-1757689200-1757703600@ascendtials.org
SUMMARY:ASCENDKEMET Collective Certified Farmers' Market of Marina District
DESCRIPTION:
URL:https://ascendtials.org/events/ascendkemet-collective-certified-farmers-market-of-marina-district-14/
LOCATION:210 West Island Avenue\, San Diego\, CA 92101\, 210 West Island Avenue\, San Diego\, California\, 92101\, United States
ATTACH;FMTTYPE=image/jpeg:https://ascendtials.org/wp-content/uploads/2025/08/marina.jpg
END:VEVENT
BEGIN:VEVENT
DTSTART;TZID=America/Los_Angeles:20250912T173000
DTEND;TZID=America/Los_Angeles:20250912T183000
DTSTAMP:20260423T180458
CREATED:20250901T004514Z
LAST-MODIFIED:20250901T004552Z
UID:29219-1757698200-1757701800@ascendtials.org
SUMMARY:Kemetic Yoga Session @ Farmers' Market
DESCRIPTION:
URL:https://ascendtials.org/events/kemetic-yoga-session-farmers-market-31/
LOCATION:210 West Island Avenue\, San Diego\, CA 92101\, 210 West Island Avenue\, San Diego\, California\, 92101\, United States
ATTACH;FMTTYPE=image/jpeg:https://ascendtials.org/wp-content/uploads/2025/08/marina-yoga-1.jpeg
END:VEVENT
BEGIN:VEVENT
DTSTART;TZID=America/Los_Angeles:20250913T100000
DTEND;TZID=America/Los_Angeles:20250913T140000
DTSTAMP:20260423T180458
CREATED:20250827T154438Z
LAST-MODIFIED:20250827T154503Z
UID:29165-1757757600-1757772000@ascendtials.org
SUMMARY:ASCENDKemet Collective Certified Farmers Market of City Heights
DESCRIPTION:
URL:https://ascendtials.org/events/ascendkemet-collective-certified-farmers-market-of-city-heights-19/
LOCATION:4325 Wightman Street  San Diego\, CA 92105\, 4325 Wightman Street\, San Diego\, California\, 92105\, United States
ATTACH;FMTTYPE=image/jpeg:https://ascendtials.org/wp-content/uploads/2025/08/collective-certified-FM.jpg
END:VEVENT
BEGIN:VEVENT
DTSTART;TZID=America/Los_Angeles:20250913T103000
DTEND;TZID=America/Los_Angeles:20250913T113000
DTSTAMP:20260423T180458
CREATED:20250831T191626Z
LAST-MODIFIED:20250831T191720Z
UID:29200-1757759400-1757763000@ascendtials.org
SUMMARY:Kemetic Yoga Session @ Farmers' Market
DESCRIPTION:
URL:https://ascendtials.org/events/kemetic-yoga-session-farmers-market-27/
LOCATION:4325 Wightman Street  San Diego\, CA 92105\, 4325 Wightman Street\, San Diego\, California\, 92105\, United States
ATTACH;FMTTYPE=image/jpeg:https://ascendtials.org/wp-content/uploads/2025/08/city-heights-yoga.jpeg
END:VEVENT
BEGIN:VEVENT
DTSTART;TZID=America/Los_Angeles:20250914T101500
DTEND;TZID=America/Los_Angeles:20250914T113000
DTSTAMP:20260423T180458
CREATED:20250901T021419Z
LAST-MODIFIED:20250901T021455Z
UID:29244-1757844900-1757849400@ascendtials.org
SUMMARY:Climate Cares Beach Cleanup @ Strand Beach
DESCRIPTION:
URL:https://ascendtials.org/events/climate-cares-beach-cleanup-strand-beach/
LOCATION:Silver Strand State Beach\, 5000 California 75\, Coronado\, California\, 92118\, United States
ATTACH;FMTTYPE=image/jpeg:https://ascendtials.org/wp-content/uploads/2025/08/silver-strand.jpeg
END:VEVENT
BEGIN:VEVENT
DTSTART;TZID=America/Los_Angeles:20250919T150000
DTEND;TZID=America/Los_Angeles:20250919T190000
DTSTAMP:20260423T180458
CREATED:20250831T202308Z
LAST-MODIFIED:20250831T202326Z
UID:29213-1758294000-1758308400@ascendtials.org
SUMMARY:ASCENDKemet Collective Certified Farmers’ Market of Marina District
DESCRIPTION:
URL:https://ascendtials.org/events/ascendkemet-collective-certified-farmers-market-of-marina-district-15/
LOCATION:210 West Island Avenue\, San Diego\, CA 92101\, 210 West Island Avenue\, San Diego\, California\, 92101\, United States
ATTACH;FMTTYPE=image/jpeg:https://ascendtials.org/wp-content/uploads/2025/08/marina.jpg
END:VEVENT
BEGIN:VEVENT
DTSTART;TZID=America/Los_Angeles:20250919T173000
DTEND;TZID=America/Los_Angeles:20250919T183000
DTSTAMP:20260423T180458
CREATED:20250901T010359Z
LAST-MODIFIED:20250901T010431Z
UID:29221-1758303000-1758306600@ascendtials.org
SUMMARY:Kemetic Yoga Session @ Farmers' Market
DESCRIPTION:
URL:https://ascendtials.org/events/kemetic-yoga-session-farmers-market-32/
LOCATION:210 West Island Avenue\, San Diego\, CA 92101\, 210 West Island Avenue\, San Diego\, California\, 92101\, United States
ATTACH;FMTTYPE=image/jpeg:https://ascendtials.org/wp-content/uploads/2025/08/marina-yoga-1.jpeg
END:VEVENT
BEGIN:VEVENT
DTSTART;TZID=America/Los_Angeles:20250920T100000
DTEND;TZID=America/Los_Angeles:20250920T140000
DTSTAMP:20260423T180458
CREATED:20250827T154756Z
LAST-MODIFIED:20250827T154814Z
UID:29167-1758362400-1758376800@ascendtials.org
SUMMARY:ASCENDKemet Collective Certified Farmers Market of City Heights
DESCRIPTION:
URL:https://ascendtials.org/events/ascendkemet-collective-certified-farmers-market-of-city-heights-20/
LOCATION:4325 Wightman Street  San Diego\, CA 92105\, 4325 Wightman Street\, San Diego\, California\, 92105\, United States
ATTACH;FMTTYPE=image/jpeg:https://ascendtials.org/wp-content/uploads/2025/08/collective-certified-FM.jpg
END:VEVENT
BEGIN:VEVENT
DTSTART;TZID=America/Los_Angeles:20250920T103000
DTEND;TZID=America/Los_Angeles:20250920T113000
DTSTAMP:20260423T180458
CREATED:20250831T193120Z
LAST-MODIFIED:20250831T194323Z
UID:29202-1758364200-1758367800@ascendtials.org
SUMMARY:Kemetic Yoga Session @ Farmers' Market
DESCRIPTION:
URL:https://ascendtials.org/events/kemetic-yoga-session-farmers-market-28/
LOCATION:4325 Wightman Street  San Diego\, CA 92105\, 4325 Wightman Street\, San Diego\, California\, 92105\, United States
ATTACH;FMTTYPE=image/jpeg:https://ascendtials.org/wp-content/uploads/2025/08/city-heights-yoga.jpeg
END:VEVENT
BEGIN:VEVENT
DTSTART;TZID=America/Los_Angeles:20250920T150000
DTEND;TZID=America/Los_Angeles:20250920T190000
DTSTAMP:20260423T180458
CREATED:20250901T011948Z
LAST-MODIFIED:20250901T012025Z
UID:29227-1758380400-1758394800@ascendtials.org
SUMMARY:ASCENDKemet Collective Certified Farmers’ Market of Oak Park
DESCRIPTION:
URL:https://ascendtials.org/events/ascendkemet-collective-certified-farmers-market-of-oak-park-4/
LOCATION:1755 Euclid Ave\, San Diego\, CA 92105\, 1755 Euclid Ave\, San Diego\, California\, 92105\, United States
ATTACH;FMTTYPE=image/png:https://ascendtials.org/wp-content/uploads/2025/08/OAK-Market-Flyer.png
END:VEVENT
BEGIN:VEVENT
DTSTART;TZID=America/Los_Angeles:20250920T153000
DTEND;TZID=America/Los_Angeles:20250920T163000
DTSTAMP:20260423T180458
CREATED:20250901T013452Z
LAST-MODIFIED:20250901T013521Z
UID:29232-1758382200-1758385800@ascendtials.org
SUMMARY:ASCENDKEMET Oak Park Farmers' Market Kemetic Yoga Session
DESCRIPTION:
URL:https://ascendtials.org/events/ascendkemet-oak-park-farmers-market-kemetic-yoga-session-4/
LOCATION:1755 Euclid Ave\, San Diego\, CA 92105\, 1755 Euclid Ave\, San Diego\, California\, 92105\, United States
ATTACH;FMTTYPE=image/jpeg:https://ascendtials.org/wp-content/uploads/2025/08/oakpark-yoga.jpeg
END:VEVENT
BEGIN:VEVENT
DTSTART;TZID=America/Los_Angeles:20250921T121500
DTEND;TZID=America/Los_Angeles:20250921T140000
DTSTAMP:20260423T180458
CREATED:20250901T014206Z
LAST-MODIFIED:20250901T014240Z
UID:29234-1758456900-1758463200@ascendtials.org
SUMMARY:Climate Cares Highway Cleanup @ Coronado
DESCRIPTION:
URL:https://ascendtials.org/events/climate-cares-highway-cleanup-coronado/
LOCATION:1701 Strandway Coronado\, CA 92118\, 1701 Strandway\, Coronado\, California\, 92118\, United States
ATTACH;FMTTYPE=image/png:https://ascendtials.org/wp-content/uploads/2025/08/coronado.png
END:VEVENT
BEGIN:VEVENT
DTSTART;TZID=America/Los_Angeles:20250921T121500
DTEND;TZID=America/Los_Angeles:20250921T140000
DTSTAMP:20260423T180458
CREATED:20250901T020211Z
LAST-MODIFIED:20250901T020238Z
UID:29238-1758456900-1758463200@ascendtials.org
SUMMARY:Climate Cares Highway Cleanup @ Mission Bay Beach Club
DESCRIPTION:
URL:https://ascendtials.org/events/climate-cares-highway-cleanup-mission-bay-beach-club/
LOCATION:2688 East Mission Bay Drive San Diego\, CA 92109\, 2688 East Mission Bay Drive\, San Diego\, California\, 92109\, United States
ATTACH;FMTTYPE=image/jpeg:https://ascendtials.org/wp-content/uploads/2025/08/mission-bay.jpeg
END:VEVENT
BEGIN:VEVENT
DTSTART;TZID=America/Los_Angeles:20250924T163000
DTEND;TZID=America/Los_Angeles:20250924T163000
DTSTAMP:20260423T180458
CREATED:20250805T204640Z
LAST-MODIFIED:20250901T022219Z
UID:28954-1758731400-1758731400@ascendtials.org
SUMMARY:Kemetic Yoga Park Takeover
DESCRIPTION:Join us for our Kemetic Yoga Park Takeover @ Martin Luther King Jr. Community Park (MLK Park)!
URL:https://ascendtials.org/events/kemetic-yoga-park-takeover-mlk/
LOCATION:MLK Park\, 6401 Skyline Drive\, San Diego\, California\, 92114\, United States
ATTACH;FMTTYPE=image/jpeg:https://ascendtials.org/wp-content/uploads/2025/08/kemetic-yoga-park-takeover.jpeg
END:VEVENT
BEGIN:VEVENT
DTSTART;TZID=America/Los_Angeles:20250926T150000
DTEND;TZID=America/Los_Angeles:20250926T190000
DTSTAMP:20260423T180458
CREATED:20250831T203304Z
LAST-MODIFIED:20250831T203349Z
UID:29215-1758898800-1758913200@ascendtials.org
SUMMARY:ASCENDKemet Collective Certified Farmers’ Market of Marina District
DESCRIPTION:
URL:https://ascendtials.org/events/ascendkemet-collective-certified-farmers-market-of-marina-district-16/
LOCATION:210 West Island Avenue\, San Diego\, CA 92101\, 210 West Island Avenue\, San Diego\, California\, 92101\, United States
ATTACH;FMTTYPE=image/jpeg:https://ascendtials.org/wp-content/uploads/2025/08/marina.jpg
END:VEVENT
BEGIN:VEVENT
DTSTART;TZID=America/Los_Angeles:20250926T173000
DTEND;TZID=America/Los_Angeles:20250926T183000
DTSTAMP:20260423T180458
CREATED:20250901T011013Z
LAST-MODIFIED:20250901T011047Z
UID:29223-1758907800-1758911400@ascendtials.org
SUMMARY:Kemetic Yoga Session @ Farmers' Market
DESCRIPTION:
URL:https://ascendtials.org/events/kemetic-yoga-session-farmers-market-33/
LOCATION:210 West Island Avenue\, San Diego\, CA 92101\, 210 West Island Avenue\, San Diego\, California\, 92101\, United States
ATTACH;FMTTYPE=image/jpeg:https://ascendtials.org/wp-content/uploads/2025/08/marina-yoga-1.jpeg
END:VEVENT
BEGIN:VEVENT
DTSTART;TZID=America/Los_Angeles:20250927T100000
DTEND;TZID=America/Los_Angeles:20250927T140000
DTSTAMP:20260423T180458
CREATED:20250827T155029Z
LAST-MODIFIED:20250827T155056Z
UID:29169-1758967200-1758981600@ascendtials.org
SUMMARY:ASCENDKemet Collective Certified Farmers Market of City Heights
DESCRIPTION:
URL:https://ascendtials.org/events/ascendkemet-collective-certified-farmers-market-of-city-heights-21/
LOCATION:4325 Wightman Street  San Diego\, CA 92105\, 4325 Wightman Street\, San Diego\, California\, 92105\, United States
ATTACH;FMTTYPE=image/jpeg:https://ascendtials.org/wp-content/uploads/2025/08/collective-certified-FM.jpg
END:VEVENT
BEGIN:VEVENT
DTSTART;TZID=America/Los_Angeles:20250927T103000
DTEND;TZID=America/Los_Angeles:20250927T113000
DTSTAMP:20260423T180458
CREATED:20250831T194159Z
LAST-MODIFIED:20250831T194240Z
UID:29205-1758969000-1758972600@ascendtials.org
SUMMARY:Kemetic Yoga Session @ Farmers' Market
DESCRIPTION:
URL:https://ascendtials.org/events/kemetic-yoga-session-farmers-market-29/
LOCATION:4325 Wightman Street  San Diego\, CA 92105\, 4325 Wightman Street\, San Diego\, California\, 92105\, United States
ATTACH;FMTTYPE=image/jpeg:https://ascendtials.org/wp-content/uploads/2025/08/city-heights-yoga.jpeg
END:VEVENT
BEGIN:VEVENT
DTSTART;TZID=America/Los_Angeles:20250928T121500
DTEND;TZID=America/Los_Angeles:20250928T140000
DTSTAMP:20260423T180458
CREATED:20250901T015732Z
LAST-MODIFIED:20250901T015810Z
UID:29236-1759061700-1759068000@ascendtials.org
SUMMARY:Climate Cares Highway Cleanup @ Hwy 94
DESCRIPTION:Cleaning locations (two): SR-94 postmile 2.61 to 2.87 eastbound (32nd St / Broadway to 32nd St / Broadway On Ramp) and SR-94 postmile 4.63-4.84 east & westbound (47th St / A to 47th St / A St On-Ramp)
URL:https://ascendtials.org/events/climate-cares-highway-cleanup-hwy-94/
LOCATION:1005 47th Street\, San Diego\, CA 92102\, 1005 47th Street\, San Diego\, California\, 92102\, United States
ATTACH;FMTTYPE=image/png:https://ascendtials.org/wp-content/uploads/2025/08/highway-94e.png
END:VEVENT
BEGIN:VEVENT
DTSTART;TZID=America/Los_Angeles:20251003T150000
DTEND;TZID=America/Los_Angeles:20251003T190000
DTSTAMP:20260423T180458
CREATED:20250930T165035Z
LAST-MODIFIED:20250930T165039Z
UID:29465-1759503600-1759518000@ascendtials.org
SUMMARY:ASCENDKemet Collective Certified Farmers’ Market of Marina District
DESCRIPTION:
URL:https://ascendtials.org/events/ascendkemet-collective-certified-farmers-market-of-marina-district-17/
LOCATION:210 West Island Avenue\, San Diego\, CA 92101\, 210 West Island Avenue\, San Diego\, California\, 92101\, United States
ATTACH;FMTTYPE=image/jpeg:https://ascendtials.org/wp-content/uploads/2025/08/marina.jpg
END:VEVENT
BEGIN:VEVENT
DTSTART;TZID=America/Los_Angeles:20251003T173000
DTEND;TZID=America/Los_Angeles:20251003T183000
DTSTAMP:20260423T180458
CREATED:20250930T171204Z
LAST-MODIFIED:20250930T171207Z
UID:29475-1759512600-1759516200@ascendtials.org
SUMMARY:Kemetic Yoga Session @ Farmers’ Market
DESCRIPTION:
URL:https://ascendtials.org/events/kemetic-yoga-session-farmers-market-38/
LOCATION:210 West Island Avenue\, San Diego\, CA 92101\, 210 West Island Avenue\, San Diego\, California\, 92101\, United States
ATTACH;FMTTYPE=image/jpeg:https://ascendtials.org/wp-content/uploads/2025/08/Yoga-Farmers-Market-Marina-District.jpg
END:VEVENT
BEGIN:VEVENT
DTSTART;TZID=America/Los_Angeles:20251004T100000
DTEND;TZID=America/Los_Angeles:20251004T140000
DTSTAMP:20260423T180458
CREATED:20250930T112425Z
LAST-MODIFIED:20250930T112429Z
UID:29449-1759572000-1759586400@ascendtials.org
SUMMARY:ASCENDKemet Collective Certified Farmers Market of City Heights
DESCRIPTION:
URL:https://ascendtials.org/events/ascendkemet-collective-certified-farmers-market-of-city-heights-22/
LOCATION:4325 Wightman Street  San Diego\, CA 92105\, 4325 Wightman Street\, San Diego\, California\, 92105\, United States
ATTACH;FMTTYPE=image/jpeg:https://ascendtials.org/wp-content/uploads/2025/08/collective-certified-FM.jpg
END:VEVENT
BEGIN:VEVENT
DTSTART;TZID=America/Los_Angeles:20251004T103000
DTEND;TZID=America/Los_Angeles:20251004T113000
DTSTAMP:20260423T180458
CREATED:20250930T164248Z
LAST-MODIFIED:20250930T164252Z
UID:29457-1759573800-1759577400@ascendtials.org
SUMMARY:Kemetic Yoga Session @ Farmers' Market
DESCRIPTION:
URL:https://ascendtials.org/events/kemetic-yoga-session-farmers-market-34/
LOCATION:4325 Wightman Street  San Diego\, CA 92105\, 4325 Wightman Street\, San Diego\, California\, 92105\, United States
ATTACH;FMTTYPE=image/jpeg:https://ascendtials.org/wp-content/uploads/2025/08/Kemet-Yoga-Session.jpg
END:VEVENT
BEGIN:VEVENT
DTSTART;TZID=America/Los_Angeles:20251005T101500
DTEND;TZID=America/Los_Angeles:20251005T113000
DTSTAMP:20260423T180458
CREATED:20250930T174135Z
LAST-MODIFIED:20250930T174139Z
UID:29499-1759659300-1759663800@ascendtials.org
SUMMARY:Climate Cares Beach Cleanup @ Black’s Beach
DESCRIPTION:
URL:https://ascendtials.org/events/climate-cares-beach-cleanup-blacks-beach-2/
LOCATION:2800 Torrey Pines Scenic Drive\, San Diego\, CA 92037\, 2800 Torrey Pines Scenic Drive\, San Diego\, California\, 95350\, United States
ATTACH;FMTTYPE=image/png:https://ascendtials.org/wp-content/uploads/2025/07/blacks_beach.png
END:VEVENT
BEGIN:VEVENT
DTSTART;TZID=America/Los_Angeles:20251010T103000
DTEND;TZID=America/Los_Angeles:20251010T130000
DTSTAMP:20260423T180458
CREATED:20250929T033449Z
LAST-MODIFIED:20250929T033453Z
UID:29446-1760092200-1760101200@ascendtials.org
SUMMARY:ASCENDtials Food Distribution Fair
DESCRIPTION:
URL:https://ascendtials.org/events/ascendtials-food-distribution-fair-4/
LOCATION:Officer Jeremy Henwood Memorial Park 4455 Wightman Street San Diego\, CA 92105\, 4455 Wightman Street\, San Diego\, California\, 92105\, United States
ATTACH;FMTTYPE=image/png:https://ascendtials.org/wp-content/uploads/2025/08/March-2025-Food-Rescue-Flyers-2.png
END:VEVENT
END:VCALENDAR